BEGIN:VCALENDAR
VERSION:2.0
PRODID:-//ChamberMaster//Event Calendar 2.0//EN
METHOD:PUBLISH
X-PUBLISHED-TTL:P3D
REFRESH-INTERVAL:P3D
CALSCALE:GREGORIAN
BEGIN:VEVENT
DTSTART:20121008T150000Z
DTEND:20121008T153000Z
X-MICROSOFT-CDO-ALLDAYEVENT:FALSE
SUMMARY:Vander Veer Enabling Garden Ribbon Cutting
DESCRIPTION:Please help the City of Davenport/Davenport Parks and Recreation Dept. celebrate the opening of the Vander Veer Enabling Garden on Monday\, October 8th at 10:00am.  Located in Vander Veer Park – 215 W. Central Park\,Davenport. The Enabling Garden is an accessible garden and features plantings that stimulate all the senses\, and includes planting beds and containers raised for comfortable reach. This accessible garden can be used by persons of any age or ability and includes garden elements that appeal to all five senses. The gardens are designed to improve and maintain the physical mental and social health of everyone. The Enabling Garden eliminates physical barriers to gardening\, creating an area where people of all ages and abilities can garden together. Key features of the Vander Veer Enabling Garden are: accessible paths throughout\, garden beds and containers at differing elevations\, water feature\, pergola\, and a riot of color and textures.
X-ALT-DESC;FMTTYPE=text/html:<P style="MARGIN: 0in 0in 0pt" class=MsoNormal><FONT face=Calibri>Please help the City of Davenport/Davenport Parks and Recreation Dept. celebrate the opening of the Vander Veer Enabling Garden on Monday\, October 8<SUP>th</SUP> at 10:00am.<SPAN style="mso-spacerun: yes">&nbsp\; </SPAN>Located in Vander Veer Park – 215 W. Central Park\,Davenport.</FONT></P><P style="MARGIN: 0in 0in 0pt" class=MsoNormal><?xml:namespace prefix = o ns = "urn:schemas-microsoft-com:office:office" /><o:p><FONT face=Calibri>&nbsp\;</FONT></o:p></P><P style="BACKGROUND: white"><SPAN style="FONT-FAMILY: 'Calibri'\,'sans-serif'\; COLOR: #333333\; FONT-SIZE: 11pt\; mso-bidi-font-family: Tahoma">The Enabling Garden is an accessible garden and features plantings that stimulate all the senses\, and includes planting beds and containers raised for comfortable reach. This accessible garden can be used by persons of any age or ability and includes garden elements that appeal to all five senses. The gardens are designed to improve and maintain the physical mental and social health of everyone.&nbsp\;<o:p></o:p></SPAN></P><P style="BACKGROUND: white"><SPAN style="FONT-FAMILY: 'Calibri'\,'sans-serif'\; COLOR: #333333\; FONT-SIZE: 11pt\; mso-bidi-font-family: Tahoma">The Enabling Garden eliminates physical barriers to gardening\, creating an area where people of all ages and abilities can garden together. Key features of the Vander Veer Enabling Garden are: accessible paths throughout\, garden beds and containers at differing elevations\, water feature\, pergola\, and a riot of color and textures.<o:p></o:p></SPAN></P><DIV>&nbsp\;</DIV>
LOCATION:Vander Veer Park215 W. Central Park Davenport\, IA
UID:e.2843.445
SEQUENCE:3
DTSTAMP:20260421T170220Z
URL:https://member.quadcitieschamber.com/events/details/vander-veer-enabling-garden-ribbon-cutting-10-08-2012-445
END:VEVENT

END:VCALENDAR
