BEGIN:VCALENDAR
VERSION:2.0
PRODID:-//ChamberMaster//Event Calendar 2.0//EN
METHOD:PUBLISH
X-PUBLISHED-TTL:P3D
REFRESH-INTERVAL:P3D
CALSCALE:GREGORIAN
BEGIN:VEVENT
DTSTART:20120113T200000Z
DTEND:20120113T203000Z
X-MICROSOFT-CDO-ALLDAYEVENT:FALSE
SUMMARY:Vander Vending Grand Opening and Ribbon Cutting
DESCRIPTION:Vander Vending is a new Chamber member and is opening a new location at 4141 Poppy  Garden Rd\, Colona (just off Hwy 84\, not far from I-80).  The celebration will take place at 2pm on Friday\, January 13\, 2012.  The Mayor of Colona along with Congressman Bobby Schilling have been confirmed to attend. Vander Vending offers vending and arcade needs (retro games available).
X-ALT-DESC;FMTTYPE=text/html:<DIV><FONT face=Calibri><P style="MARGIN: 0in 0in 0pt" class=MsoNormal>Vander Vending is a new Chamber member and is opening a new location at 4141 Poppy<SPAN style="mso-spacerun: yes">&nbsp\; </SPAN>Garden Rd\, Colona (just off Hwy 84\, not far from I-80).<SPAN style="mso-spacerun: yes">&nbsp\; </SPAN>The celebration will take place at 2pm on Friday\, January 13\, 2012.<SPAN style="mso-spacerun: yes">&nbsp\; </SPAN>The Mayor of Colona along with Congressman Bobby Schilling have been confirmed to attend.</P><P style="MARGIN: 0in 0in 0pt" class=MsoNormal><?xml:namespace prefix = o ns = "urn:schemas-microsoft-com:office:office" /><o:p>&nbsp\;</o:p></P><P style="MARGIN: 0in 0in 0pt" class=MsoNormal>Vander Vending offers vending and arcade needs (retro games available).<SPAN style="mso-spacerun: yes">&nbsp\; </SPAN></P><P style="MARGIN: 0in 0in 0pt" class=MsoNormal>&nbsp\;</P></FONT></DIV>
LOCATION:Vander Vending4141 Poppy Garden Rd. Colona\, IL 61241
UID:e.2843.328
SEQUENCE:3
DTSTAMP:20260422T093530Z
URL:https://member.quadcitieschamber.com/events/details/vander-vending-grand-opening-and-ribbon-cutting-01-13-2012-328
END:VEVENT

END:VCALENDAR
