BEGIN:VCALENDAR
VERSION:2.0
PRODID:-//ChamberMaster//Event Calendar 2.0//EN
METHOD:PUBLISH
X-PUBLISHED-TTL:P3D
REFRESH-INTERVAL:P3D
CALSCALE:GREGORIAN
BEGIN:VEVENT
DTSTART:20130522T150000Z
DTEND:20130522T153000Z
X-MICROSOFT-CDO-ALLDAYEVENT:FALSE
SUMMARY:Vera French Community Outreach Center Grand Opening & Ribbon Cutting
DESCRIPTION:Please help the Vera French Foundation celebrate their new Community Outreach Center on Wednesday\, May 22nd at 10:00am – Located at 423 E. 32nd Street\, Davenport. Vera French Community Mental Health Center will enhance the mental health of all in our community by providing quality\, accessible and comprehensive care. This new location is handicap accessible\, has individual and group meeting room locations and is on a bus line for easier access.  This location will allow the Frontier to support more persons in the community which in turn can assist in reducing incarcerations\, hospitalizations\, homelessness and illicit drug and alcohol use. Vera French is committed to:Helping people in our community live well.Helping you and your loved one live the best life possible.Providing quality\, accessible and comprehensive mental health.For more information\, please visit www.verafrench.com.
X-ALT-DESC;FMTTYPE=text/html:<DIV style="FONT-FAMILY: Arial"><P style="MARGIN: 0in 0in 0pt" class=MsoNormal><SPAN style="mso-ascii-font-family: Calibri\; mso-ascii-theme-font: minor-latin\; mso-hansi-font-family: Calibri\; mso-hansi-theme-font: minor-latin"><FONT face=Calibri>Please help the Vera French Foundation celebrate their new Community Outreach Center on <B style="mso-bidi-font-weight: normal">Wednesday\, May 22<SUP>nd</SUP> at 10:00am</B> – Located at 423 E. 32<SUP>nd</SUP> Street\, Davenport.<?xml:namespace prefix = o ns = "urn:schemas-microsoft-com:office:office" /><o:p></o:p></FONT></SPAN></P><P style="MARGIN: 0in 0in 0pt" class=MsoNormal><SPAN style="mso-ascii-font-family: Calibri\; mso-ascii-theme-font: minor-latin\; mso-hansi-font-family: Calibri\; mso-hansi-theme-font: minor-latin"><o:p><FONT face=Calibri>&nbsp\;</FONT></o:p></SPAN></P><P style="MARGIN: 0in 0in 0pt" class=MsoNormal><SPAN style="COLOR: black\; mso-ascii-font-family: Calibri\; mso-ascii-theme-font: minor-latin\; mso-hansi-font-family: Calibri\; mso-hansi-theme-font: minor-latin"><FONT face=Calibri>Vera French Community Mental Health Center will enhance the mental health of all in our community by providing quality\, accessible and comprehensive care.<o:p></o:p></FONT></SPAN></P><P style="MARGIN: 0in 0in 0pt" class=MsoNormal><SPAN style="COLOR: black\; mso-ascii-font-family: Calibri\; mso-ascii-theme-font: minor-latin\; mso-hansi-font-family: Calibri\; mso-hansi-theme-font: minor-latin"><o:p><FONT face=Calibri>&nbsp\;</FONT></o:p></SPAN></P><P style="MARGIN: 0in 0in 0pt" class=MsoNormal><FONT face=Calibri><SPAN style="COLOR: black\; mso-ascii-font-family: Calibri\; mso-ascii-theme-font: minor-latin\; mso-hansi-font-family: Calibri\; mso-hansi-theme-font: minor-latin">This new location is handicap accessible\, has individual and group meeting room locations and is on a bus line for easier access.&nbsp\; This location will allow the Frontier to support more persons in the community which in turn can assist in reducing incarcerations\, hospitalizations\, homelessness and illicit drug and alcohol use.</SPAN><SPAN style="mso-ascii-font-family: Calibri\; mso-ascii-theme-font: minor-latin\; mso-hansi-font-family: Calibri\; mso-hansi-theme-font: minor-latin"><o:p></o:p></SPAN></FONT></P><P style="MARGIN: 0in 0in 0pt" class=MsoNormal><SPAN style="mso-ascii-font-family: Calibri\; mso-ascii-theme-font: minor-latin\; mso-hansi-font-family: Calibri\; mso-hansi-theme-font: minor-latin"><o:p><FONT face=Calibri>&nbsp\;</FONT></o:p></SPAN></P><P style="MARGIN: 0in 0in 0pt\; BACKGROUND: white" class=MsoNormal><FONT face=Calibri><B><SPAN style="COLOR: black\; mso-ascii-font-family: Calibri\; mso-ascii-theme-font: minor-latin\; mso-hansi-font-family: Calibri\; mso-hansi-theme-font: minor-latin">Vera French is committed to:</SPAN></B><SPAN style="COLOR: black\; mso-ascii-font-family: Calibri\; mso-ascii-theme-font: minor-latin\; mso-hansi-font-family: Calibri\; mso-hansi-theme-font: minor-latin"><o:p></o:p></SPAN></FONT></P><UL type=disc><LI style="MARGIN: 0in 0in 0pt\; BACKGROUND: white\; COLOR: black\; mso-margin-top-alt: auto\; mso-margin-bottom-alt: auto\; mso-list: l0 level1 lfo1\; tab-stops: list .5in" class=MsoNormal><SPAN style="mso-ascii-font-family: Calibri\; mso-ascii-theme-font: minor-latin\; mso-hansi-font-family: Calibri\; mso-hansi-theme-font: minor-latin"><FONT face=Calibri>Helping people in our community live well.<o:p></o:p></FONT></SPAN></LI><LI style="MARGIN: 0in 0in 0pt\; BACKGROUND: white\; COLOR: black\; mso-margin-top-alt: auto\; mso-margin-bottom-alt: auto\; mso-list: l0 level1 lfo1\; tab-stops: list .5in" class=MsoNormal><SPAN style="mso-ascii-font-family: Calibri\; mso-ascii-theme-font: minor-latin\; mso-hansi-font-family: Calibri\; mso-hansi-theme-font: minor-latin"><FONT face=Calibri>Helping you and your loved one live the best life possible.<o:p></o:p></FONT></SPAN></LI><LI style="MARGIN: 0in 0in 0pt\; BACKGROUND: white\; COLOR: black\; mso-margin-top-alt: auto\; mso-margin-bottom-alt: auto\; mso-list: l0 level1 lfo1\; tab-stops: list .5in" class=MsoNormal><SPAN style="mso-ascii-font-family: Calibri\; mso-ascii-theme-font: minor-latin\; mso-hansi-font-family: Calibri\; mso-hansi-theme-font: minor-latin"><FONT face=Calibri>Providing quality\, accessible and comprehensive mental health.<o:p></o:p></FONT></SPAN></LI></UL><P style="MARGIN: 0in 0in 0pt" class=MsoNormal><FONT face=Calibri>For more information\, please visit </FONT><A href="http://www.verafrench.com"><FONT face="Times New Roman">www.verafrench.com</FONT></A><FONT face=Calibri>.<o:p></o:p></FONT></P></DIV>
LOCATION:Vera French Community Outreach Center423 E. 32nd Street Davenport\, IA
UID:e.2843.571
SEQUENCE:3
DTSTAMP:20260421T121653Z
URL:https://member.quadcitieschamber.com/events/details/vera-french-community-outreach-center-grand-opening-ribbon-cutting-05-22-2013-571
END:VEVENT

END:VCALENDAR
