BEGIN:VCALENDAR
VERSION:2.0
PRODID:-//ChamberMaster//Event Calendar 2.0//EN
METHOD:PUBLISH
X-PUBLISHED-TTL:P3D
REFRESH-INTERVAL:P3D
CALSCALE:GREGORIAN
BEGIN:VEVENT
DTSTART:20180423T173000Z
DTEND:20180423T220000Z
X-MICROSOFT-CDO-ALLDAYEVENT:FALSE
SUMMARY:Veterans Business Roadshow Campus Tour
DESCRIPTION:As a veteran\, have you ever dreamed of owning your own business? Do you already own a business and want to improve it?\n\n\n\nThe Veterans Business Outreach Center serving Illinois (VBOC@WBDC)\, supported by Newman's Own Foundation\, invites you to join the Veterans Business Roadshow - Campus Tour. Veterans of all eras\, Active Duty\, Guard\, Reserve and Military Family Members are invited to attend. The event includes three workshops\, a box lunch and afternoon refreshments. There is no charge for this event. Local business owners are invited to join the veterans in attending this event.\n\n\n\nWorkshop topics will include:\n\n Entrepreneurship for You\, Veterans Edition   this workshop introduces the concepts of small business ownership\n\n Financing Your Small Business   U.S. Small Business Administration (SBA)\n\n Kickstart Your Business   low-cost\, no-cost ideas for improving the profitability of your existing businesstomorrow\n\nAdditional Presenters:\n\n Dr. James Patterson\, Assistant Dean\, WIU Quad City Campus\n\n Curtis Williams\, Veterans Services Officer\, WIU\n\n Illinois Procurement Technical Assistance Center (PTAC)\n\n Ann Friederichs\, Illinois Small Business Development Center (SBDC)
X-ALT-DESC;FMTTYPE=text/html:<div style="text-align: center\;"><span style="font-size:16px\;"><span style="font-family:arial\;"><strong>As a veteran\, have you ever dreamed of owning your own business? Do you already own a business and want to improve it?</strong></span></span></div>\n\n<div><br />\n<span style="font-size:16px\;"><span style="font-family:arial\;">The Veterans Business Outreach Center serving Illinois (VBOC@WBDC)\, supported by Newman&rsquo\;s Own Foundation\, invites you to join the Veterans Business Roadshow - Campus Tour. Veterans of all eras\, Active Duty\, Guard\, Reserve and Military Family Members are invited to attend. The event includes three workshops\, a box lunch and afternoon refreshments. There is no charge for this event. Local business owners are invited to join the veterans in attending this event.<br />\n<br />\n<strong>W<strong>or</strong>kshop topics will include:</strong><br />\n&bull\;Entrepreneurship for You\, Veterans Edition &ndash\; this workshop introduces the concepts of small business ownership<br />\n&bull\;Financing Your Small Business &ndash\; U.S. Small Business Administration (SBA)<br />\n&bull\;Kickstart Your Business &ndash\; low-cost\, no-cost ideas for improving the profitability of your existing businesstomorrow<br />\nAdditional Presenters:<br />\n&bull\;Dr. James Patterson\, Assistant Dean\, WIU Quad City Campus<br />\n&bull\;Curtis Williams\, Veterans Services Officer\, WIU<br />\n&bull\;Illinois Procurement Technical Assistance Center (PTAC)<br />\n&bull\;Ann Friederichs\, Illinois Small Business Development Center (SBDC)</span></span></div>\n
LOCATION:Western Illinois University QC Campus 3300 River Drive\, Moline\, IL 61265 Riverfront Hall 103/104
UID:e.2843.13175
SEQUENCE:3
DTSTAMP:20260423T123236Z
URL:https://member.quadcitieschamber.com/events/details/veterans-business-roadshow-campus-tour-13175
END:VEVENT

END:VCALENDAR
