BEGIN:VCALENDAR
VERSION:2.0
PRODID:-//ChamberMaster//Event Calendar 2.0//EN
METHOD:PUBLISH
X-PUBLISHED-TTL:P3D
REFRESH-INTERVAL:P3D
CALSCALE:GREGORIAN
BEGIN:VEVENT
DTSTART:20111231T233000Z
DTEND:20120101T080000Z
X-MICROSOFT-CDO-ALLDAYEVENT:FALSE
SUMMARY:VFW 9128 - New Year's Eve Celebration
DESCRIPTION:Dinner 5:30 - 8:00pm\nYour choice of: Deep Fried Butterfly Shrimp (6pcs) - $7.50\, Ribeye (8oz) - $10\, or Surf   Prizes incl:42” HDTV\, Kindle\, Golf Clubs\, Digital Camera\, and more!\n\nInfo\, Pre-order\, or Reservations available by calling (563) 355-8528
X-ALT-DESC;FMTTYPE=text/html:Dinner 5:30 - 8:00pm\nYour choice of: Deep Fried Butterfly Shrimp (6pcs) - $7.50\, Ribeye (8oz) - $10\, or Surf & Turf - $14 (incl’s: Baked Potato\, Green Salad\, and Bread)\n\nMusic by: Fifth of Country(8pm – 1am)\n\nAnnual New Year's Eve Raffle Tickets Available - $5 Donation per Chance\; Prizes incl:42” HDTV\, Kindle\, Golf Clubs\, Digital Camera\, and more!\n\nInfo\, Pre-order\, or Reservations available by calling (563) 355-8528
LOCATION:VFW Post 91282814 State St Bettendorf\, IA 52722
UID:e.2843.111
SEQUENCE:3
DTSTAMP:20260422T093351Z
URL:https://member.quadcitieschamber.com/events/details/vfw-9128-new-year-s-eve-celebration-12-31-2011-111
END:VEVENT

END:VCALENDAR
