BEGIN:VCALENDAR
VERSION:2.0
PRODID:-//ChamberMaster//Event Calendar 2.0//EN
METHOD:PUBLISH
X-PUBLISHED-TTL:P3D
REFRESH-INTERVAL:P3D
CALSCALE:GREGORIAN
BEGIN:VEVENT
DTSTART:20121231T233000Z
DTEND:20130101T080000Z
X-MICROSOFT-CDO-ALLDAYEVENT:FALSE
SUMMARY:VFW Post 9128 - New Year's Eve Dinner & Dance
DESCRIPTION:Dinner - your choice: Deep Fried Butterfly Shrimp (6pcs) - $8\, Sirloin (8oz) - $12\, or Surf & Turf -$15 (inclâ€™s: Baked Potato\, Green Salad\, and Bread)\nServed from 5:30 to 8pm --- Reservations & Meal selection are Required by Midnight on 12/26/12\, by calling (563) 355-8528 or emailing: vfwpost9128@mchsi.com\n You must leave your Name\, Ph#\, Meal Selection\, and requested seating time.
X-ALT-DESC;FMTTYPE=text/html:Dinner - your choice: Deep Fried Butterfly Shrimp (6pcs) - $8\, Sirloin (8oz) - $12\, or Surf & Turf -$15 (inclâ€™s: Baked Potato\, Green Salad\, and Bread)\nServed from 5:30 to 8pm --- Reservations & Meal selection are Required by Midnight on 12/26/12\, by calling (563) 355-8528 or emailing: vfwpost9128@mchsi.com\n You must leave your Name\, Ph#\, Meal Selection\, and requested seating time.
LOCATION:VFW Post 91282814 State St Bettendorf\, IA 52722
UID:e.2843.88
SEQUENCE:3
DTSTAMP:20260421T121224Z
URL:https://member.quadcitieschamber.com/events/details/vfw-post-9128-new-year-s-eve-dinner-dance-12-31-2012-88
END:VEVENT

END:VCALENDAR
