BEGIN:VCALENDAR
VERSION:2.0
PRODID:-//ChamberMaster//Event Calendar 2.0//EN
METHOD:PUBLISH
X-PUBLISHED-TTL:P3D
REFRESH-INTERVAL:P3D
CALSCALE:GREGORIAN
BEGIN:VEVENT
DTSTART:20210225T193000Z
DTEND:20210226T203000Z
X-MICROSOFT-CDO-ALLDAYEVENT:FALSE
SUMMARY:Video Conferencing: Look Like a Pro
DESCRIPTION:Safety precautions have driven our meetings from fancy conference rooms to online. This event will teach you how to bring a professional video experience to your online meetings giving you the power to enhance the quality of your online video conferencing meetings.\n\nOur Presenter\n\nEvan Furniss\, Network Engineer at TSTS\, has eight years of experience setting up live and online studio productions on a budget. Tying in a passion for technology with videography\, editing\, and photography has allowed him to create stunning experiences for millions worldwide.\n\nWho Should Attend\n\nLeadership\, marketing\, sales\, and owners who want to improve their online meeting presence.\n\nAgenda\n\n45-minute live-streamed YouTube presentation\n\n1. Lighting and video composition presentation.\n\n2. Understanding online meeting quality and compression.\n\n3. Differences between GoToMeeting\, Zoom\, Teams\, and more!\n\n4. What equipment is needed.\n\n15-minute Q&A and interactive chat\n\nRegister Here.
X-ALT-DESC;FMTTYPE=text/html:<p>Safety precautions have driven our meetings from fancy conference rooms to online. This event will teach you how to bring a professional video experience to your online meetings giving you the power to enhance the quality of your online video conferencing meetings.</p>\n\n<p><strong>Our Presenter</strong></p>\n\n<p>Evan Furniss\, Network Engineer at TSTS\, has eight years of experience setting up live and online studio productions on a budget. Tying in a passion for technology with videography\, editing\, and photography has allowed him to create stunning experiences for millions worldwide.</p>\n\n<p><strong>Who Should Attend</strong></p>\n\n<p>Leadership\, marketing\, sales\, and owners who want to improve their online meeting presence.</p>\n\n<p><strong>Agenda</strong></p>\n\n<p><strong><em>45-minute live-streamed YouTube presentation</em></strong></p>\n\n<p>1. Lighting and video composition presentation.</p>\n\n<p>2. Understanding online meeting quality and compression.</p>\n\n<p>3. Differences between GoToMeeting\, Zoom\, Teams\, and more!</p>\n\n<p>4. What equipment is needed.</p>\n\n<p><strong><em>15-minute Q&amp\;A and interactive chat</em></strong></p>\n\n<p><a href="https://www.eventbrite.com/e/video-conferencing-look-like-a-pro-tickets-138632777369" rel="noopener noreferrer" style="box-sizing: inherit\; background-color: transparent\; color: rgb(3\, 114\, 182)\;" target="_blank">Register Here.&nbsp\;</a></p>\n
LOCATION:Virtual Event Click to register
UID:e.2843.18758
SEQUENCE:3
DTSTAMP:20260421T044915Z
URL:https://member.quadcitieschamber.com/events/details/video-conferencing-look-like-a-pro-18758
END:VEVENT

END:VCALENDAR
