BEGIN:VCALENDAR
VERSION:2.0
PRODID:-//ChamberMaster//Event Calendar 2.0//EN
METHOD:PUBLISH
X-PUBLISHED-TTL:P3D
REFRESH-INTERVAL:P3D
CALSCALE:GREGORIAN
BEGIN:VEVENT
DTSTART:20140723T160000Z
DTEND:20140723T163000Z
X-MICROSOFT-CDO-ALLDAYEVENT:FALSE
SUMMARY:Village Cooperative of Crow Creek Grand Opening Ribbon Cutting
DESCRIPTION:Village Cooperative of Crow Creek\, located at 4009 East 53rd St. Davenport\, IA 52807\, will host a grand opening ribbon cutting on Wednesday\, July 23rd at 11:00am.   The 4-story Village Cooperative will consist of 61 new homes located in a convenient location close to shopping and many other local amenities.  The Village will also feature decorated community areas including a community room with kitchen\, guest suite\, club room\, reading areas\, outdoor planting areas\, woodworking shop\, fitness center and underground heated parking.   Residents will have the choice of expertly designed one and two bedroom homes that range in size of 897 sq. ft. to 1\,572 sq. ft. of living space.  Each home is completely maintenance-free inside and out and has its own separate laundry room\, storage area and private balcony.  Well-equipped kitchens include spacious countertops with island\, all new appliances and a choice of cabinetry to suit resident’s personal style.   For more information on Village Cooperative of Crow Creek visit www.villagecopperative.com.
X-ALT-DESC;FMTTYPE=text/html:<FONT face=Calibri><P style="MARGIN: 0in 0in 0pt" class=MsoNormal>Village Cooperative of Crow Creek\, located at 4009 East 53<SUP>rd</SUP> St. Davenport\, IA 52807\, will host a grand opening ribbon cutting on Wednesday\, July 23<SUP>rd</SUP> at 11:00am.<SPAN style="mso-spacerun: yes">&nbsp\; </SPAN><?xml:namespace prefix = o ns = "urn:schemas-microsoft-com:office:office" /><o:p></o:p></P><P style="MARGIN: 0in 0in 0pt" class=MsoNormal><o:p>&nbsp\;</o:p></P><P style="MARGIN: 0in 0in 0pt" class=MsoNormal>The 4-story Village Cooperative will consist of 61 new homes located in a convenient location close to shopping and many other local amenities.<SPAN style="mso-spacerun: yes">&nbsp\; </SPAN>The Village will also feature decorated community areas including a community room with kitchen\, guest suite\, club room\, reading areas\, outdoor planting areas\, woodworking shop\, fitness center and underground heated parking.<SPAN style="mso-spacerun: yes">&nbsp\; </SPAN><o:p></o:p></P><P style="MARGIN: 0in 0in 0pt" class=MsoNormal><o:p>&nbsp\;</o:p></P><P style="MARGIN: 0in 0in 0pt" class=MsoNormal>Residents will have the choice of expertly designed one and two bedroom homes that range in size of 897 sq. ft. to 1\,572 sq. ft. of living space.<SPAN style="mso-spacerun: yes">&nbsp\; </SPAN>Each home is completely maintenance-free inside and out and has its own separate laundry room\, storage area and private balcony.<SPAN style="mso-spacerun: yes">&nbsp\; </SPAN>Well-equipped kitchens include spacious countertops with island\, all new appliances and a choice of cabinetry to suit resident’s personal style.<SPAN style="mso-spacerun: yes">&nbsp\; </SPAN><o:p></o:p></P><P style="MARGIN: 0in 0in 0pt" class=MsoNormal><o:p>&nbsp\;</o:p></P><P style="MARGIN: 0in 0in 0pt" class=MsoNormal>For more information on Village Cooperative of Crow Creek visit <A href="http://www.villagecopperative.com"><FONT color=#0000ff face="Times New Roman">www.villagecopperative.com</FONT></A>.<SPAN style="mso-spacerun: yes">&nbsp\; </SPAN><o:p></o:p></P><P style="MARGIN: 0in 0in 0pt" class=MsoNormal><o:p>&nbsp\;</o:p></P><P style="MARGIN: 0in 0in 0pt" class=MsoNormal><o:p></o:p>&nbsp\;</P><P style="MARGIN: 0in 0in 0pt" class=MsoNormal>&nbsp\;</P></FONT>
LOCATION:Village Cooperative of Crow Creek4009 E. 53rd St. Suite 104 Davenport\, IA 52807
UID:e.2843.826
SEQUENCE:3
DTSTAMP:20260422T124542Z
URL:https://member.quadcitieschamber.com/events/details/village-cooperative-of-crow-creek-grand-opening-ribbon-cutting-07-23-2014-826
END:VEVENT

END:VCALENDAR
