BEGIN:VCALENDAR
VERSION:2.0
PRODID:-//ChamberMaster//Event Calendar 2.0//EN
METHOD:PUBLISH
X-PUBLISHED-TTL:P3D
REFRESH-INTERVAL:P3D
CALSCALE:GREGORIAN
BEGIN:VEVENT
DTSTART:20140503T150000Z
DTEND:20140503T210000Z
X-MICROSOFT-CDO-ALLDAYEVENT:FALSE
SUMMARY:Village in Bloom: A Festival of the Arts
DESCRIPTION:A festival to honor legendary artists Isabel and John Bloom will be held in the Village of East Davenport Sat. May 3\, 10-4. â€œVillage in Bloom: A Festival of the Artsâ€ will feature the fine art andperformance art of area school children\, performances by the Eulenspiegel Puppets among other groups\, arts activities for children and exhibits of Isabel and John Bloomâ€™s artwork.\n \nArea school children will exhibit nature sculptures that reflect the foundational principle of the regionalist movement that Isabel and John represented. That principle â€“ making art based on whatâ€™s in your ownbackyard â€“ will feature bugs and blooms and will be primarily composed of locally available recycled materials.\n \nPerformance groups will showcase their talents as singers\, instrumentalists\, puppeteers\, dancers and actors. In addition to area children\, performers include the Eulenspiegel Puppets\, Toto Johnson the Stilt-walker Clown\, Rick Eugene the Magician Clown and Balloon Artist\, Junior Theatreâ€™s Pinocchio\, the Moline Boysâ€™ Choir\, QCS Youth Ensemble\, Ballet Folklorico\, the Mt. Zion Missionary Baptist All-Male Choir and many more.\n \nâ€œIsabel and John lived\, raised their family and created their art in the East Village\,â€ festival organizer and Isabel Bloom sculptor Donna Youngsays. â€œWe are thrilled to host this festival in celebration of all they brought to our area. Andweâ€™re thrilled to be able to encourage young people to get involved in the arts. Isabel loved children and mentored the artist in them. We are grateful to be able to continue both Isabelâ€™s and Johnâ€™s work.â€\n \nIn addition to the studentsâ€™ performance and fine arts exhibits\, the festival will feature exhibits of Isabel and John Bloomâ€™s art\, childrenâ€™s art-making activities featuringthe Eulenspiegel Puppeteers\, Figge artists\, Reusable Useables of Le Claire\, Jr. Theaterâ€™s Face Painting and other activities.
X-ALT-DESC;FMTTYPE=text/html:A festival to honor legendary artists Isabel and John Bloom will be held in the Village of East Davenport Sat. May 3\, 10-4. â€œVillage in Bloom: A Festival of the Artsâ€ will feature the fine art andperformance art of area school children\, performances by the Eulenspiegel Puppets among other groups\, arts activities for children and exhibits of Isabel and John Bloomâ€™s artwork.\n \nArea school children will exhibit nature sculptures that reflect the foundational principle of the regionalist movement that Isabel and John represented. That principle â€“ making art based on whatâ€™s in your ownbackyard â€“ will feature bugs and blooms and will be primarily composed of locally available recycled materials.\n \nPerformance groups will showcase their talents as singers\, instrumentalists\, puppeteers\, dancers and actors. In addition to area children\, performers include the Eulenspiegel Puppets\, Toto Johnson the Stilt-walker Clown\, Rick Eugene the Magician Clown and Balloon Artist\, Junior Theatreâ€™s Pinocchio\, the Moline Boysâ€™ Choir\, QCS Youth Ensemble\, Ballet Folklorico\, the Mt. Zion Missionary Baptist All-Male Choir and many more.\n \nâ€œIsabel and John lived\, raised their family and created their art in the East Village\,â€ festival organizer and Isabel Bloom sculptor Donna Youngsays. â€œWe are thrilled to host this festival in celebration of all they brought to our area. Andweâ€™re thrilled to be able to encourage young people to get involved in the arts. Isabel loved children and mentored the artist in them. We are grateful to be able to continue both Isabelâ€™s and Johnâ€™s work.â€\n \nIn addition to the studentsâ€™ performance and fine arts exhibits\, the festival will feature exhibits of Isabel and John Bloomâ€™s art\, childrenâ€™s art-making activities featuringthe Eulenspiegel Puppeteers\, Figge artists\, Reusable Useables of Le Claire\, Jr. Theaterâ€™s Face Painting and other activities.\n
LOCATION:
UID:e.2843.34
SEQUENCE:3
DTSTAMP:20260422T093827Z
URL:https://member.quadcitieschamber.com/events/details/village-in-bloom-a-festival-of-the-arts-05-03-2014-34
END:VEVENT

END:VCALENDAR
