BEGIN:VCALENDAR
VERSION:2.0
PRODID:-//ChamberMaster//Event Calendar 2.0//EN
METHOD:PUBLISH
X-PUBLISHED-TTL:P3D
REFRESH-INTERVAL:P3D
CALSCALE:GREGORIAN
BEGIN:VEVENT
DTSTART;VALUE=DATE:20170519
DTEND;VALUE=DATE:20170521
TRANSP:TRANSPARENT
X-MICROSOFT-CDO-ALLDAYEVENT:TRUE
SUMMARY:Village of Milan Annual Yard Sales
DESCRIPTION:The residents of the Village of Milan welcome you to join us for our annual yard or garage sales! A final list of the registered sale locations can be found at the Milan Shell gas station\, the Milan Casey's\, and at each registered sale OR you can download it from our FaceBook page: Village of Milan Annual Yard Sales (available on Thursday before the sale begins). If you haven't been to the Village of Milan lately\, come and check it out! We've got small shops\, restaurants\, a coffee house\, and lunch off the grill at our local butcher shop.
X-ALT-DESC;FMTTYPE=text/html:The residents of the Village of Milan welcome you to join us for our annual yard or garage sales! A final list of the registered sale locations can be found at the Milan Shell gas station\, the Milan Casey&rsquo\;s\, and at each registered sale OR you can download it from our FaceBook page: Village of Milan Annual Yard Sales (available on Thursday before the sale begins). If you haven&rsquo\;t been to the Village of Milan lately\, come and check it out! We&rsquo\;ve got small shops\, restaurants\, a coffee house\, and lunch off the grill at our local butcher shop.
LOCATION:Village of Milan
UID:e.2843.5823
SEQUENCE:3
DTSTAMP:20260424T032141Z
URL:https://member.quadcitieschamber.com/events/details/village-of-milan-annual-yard-sales-5823
END:VEVENT

END:VCALENDAR
