BEGIN:VCALENDAR
VERSION:2.0
PRODID:-//ChamberMaster//Event Calendar 2.0//EN
METHOD:PUBLISH
X-PUBLISHED-TTL:P3D
REFRESH-INTERVAL:P3D
CALSCALE:GREGORIAN
BEGIN:VEVENT
DTSTART:20130215T223000Z
DTEND:20130215T230000Z
X-MICROSOFT-CDO-ALLDAYEVENT:FALSE
SUMMARY:Virden Broadcasting Corp ''Rewind 93.9'' Ribbon Cutting
DESCRIPTION:Please help Virden Broadcasting Corp “Rewind 93.9” celebrate their new location with a ribbon cutting on Friday\, February 15\, 2013 at 4:30pm.  Located at 736 Federal St. #2318\, 3rd Floor\, Davenport – River Drive to Federal Street. Locally owned\, corporate office is relocating to Davenport.  For more information\, visit www.quadcitydailynews.com.
X-ALT-DESC;FMTTYPE=text/html:<P style="MARGIN: 0in 0in 0pt" class=MsoNormal><FONT face=Calibri>Please help Virden Broadcasting Corp “Rewind 93.9” celebrate their new location with a ribbon cutting on Friday\, February 15\, 2013 at 4:30pm.<SPAN style="mso-spacerun: yes">&nbsp\; </SPAN>Located at 736 Federal St. #2318\, 3<SUP>rd</SUP> Floor\, Davenport – River Drive to Federal Street.</FONT></P><P style="MARGIN: 0in 0in 0pt" class=MsoNormal><?xml:namespace prefix = o ns = "urn:schemas-microsoft-com:office:office" /><o:p><FONT face=Calibri>&nbsp\;</FONT></o:p></P><P style="MARGIN: 0in 0in 0pt" class=MsoNormal><FONT face=Calibri>Locally owned\, corporate office is relocating to Davenport.<SPAN style="mso-spacerun: yes">&nbsp\; </SPAN>For more information\, visit </FONT><A href="http://www.quadcitydailynews.com">www.quadcitydailynews.com</A>.</P><DIV style="FONT-FAMILY: Arial">&nbsp\;</DIV>
LOCATION:Virden Broadcasting Corp736 Federal St. #2318\, 3rd Floor Davenport\, IA
UID:e.2843.494
SEQUENCE:3
DTSTAMP:20260421T110419Z
URL:https://member.quadcitieschamber.com/events/details/virden-broadcasting-corp-rewind-93-9-ribbon-cutting-02-15-2013-494
END:VEVENT

END:VCALENDAR
