BEGIN:VCALENDAR
VERSION:2.0
PRODID:-//ChamberMaster//Event Calendar 2.0//EN
METHOD:PUBLISH
X-PUBLISHED-TTL:P3D
REFRESH-INTERVAL:P3D
CALSCALE:GREGORIAN
BEGIN:VEVENT
DTSTART;VALUE=DATE:20210202
DTEND;VALUE=DATE:20210203
TRANSP:TRANSPARENT
X-MICROSOFT-CDO-ALLDAYEVENT:TRUE
SUMMARY:Virtual - Data Analytics Microcredential Program
DESCRIPTION:This course provides fundamental concepts and introduces techniques of statistical analysis and quantitative modeling. It applies basic analysis tools in a spreadsheet environment to interpret analytic models and make better business decisions. Spring 2021 cohort meets virtually 6-9pm on February 2\, 9\, 16\, 23\; March 2\, 9\, 16\, 23\, 30\; April 6\, 13\, 20\, 27\; May 4.
X-ALT-DESC;FMTTYPE=text/html:<span style="background-color:rgb(248\, 248\, 248)\; font-family:-apple-system\,blinkmacsystemfont\,segoe ui\,roboto\,helvetica neue\,arial\,sans-serif\; font-size:16px">This course provides fundamental concepts and introduces techniques of statistical analysis and quantitative modeling. It applies basic analysis tools in a spreadsheet environment to interpret analytic models and make better business decisions. Spring 2021 cohort meets virtually 6-9pm on February 2\, 9\, 16\, 23\; March 2\, 9\, 16\, 23\, 30\; April 6\, 13\, 20\, 27\; May 4.</span>
LOCATION:Online.
UID:e.2843.18360
SEQUENCE:3
DTSTAMP:20260421T044709Z
URL:https://member.quadcitieschamber.com/events/details/virtual-data-analytics-microcredential-program-18360
END:VEVENT

END:VCALENDAR
