BEGIN:VCALENDAR
VERSION:2.0
PRODID:-//ChamberMaster//Event Calendar 2.0//EN
METHOD:PUBLISH
X-PUBLISHED-TTL:P3D
REFRESH-INTERVAL:P3D
CALSCALE:GREGORIAN
BEGIN:VEVENT
DTSTART:20210224T180000Z
DTEND:20210224T190000Z
X-MICROSOFT-CDO-ALLDAYEVENT:FALSE
SUMMARY:Virtual Event | 12@12 Lunch with Leaders: Featuring Corri Spiegel\, Davenport City Administrator
DESCRIPTION:Virtual Event | 12@12 Lunch with Leaders: Featuring Corri Spiegel\, Davenport City Administrator\n\n\n\nWednesday\, February 24th | 12 - 1 p.m.\n\nChamber members only | Free to attend - Advanced registration required\n\n\n\nThe Chamber is in the business of facilitating valuable connections between our members. Every other month\, we invite a small group of members to participate in a conversation over lunch to discuss business issues that are pressing to their organization. 12@12 is always facilitated by a Chamber board member.\n\n\n\nSpace is limited to 11 members. Advanced registration required.\n\n\n\nZoom Meeting Link will be included in your event registration. If you have any questions or need additional assistance\, please contact:\n\n\n\nDeb Mueller\n\nManager\, Business Growth\n\nCell: 309.207.1812\n\nOffice: 563.823.2661\n\nEmail: dmueller@quadcitieschamber.com
X-ALT-DESC;FMTTYPE=text/html:<strong><span style="font-family: arial\, sans-serif\;"><span style="font-size: 12pt\;">Virtual Event | 12@12 Lunch with Leaders: Featuring Corri Spiegel\, Davenport City Administrator</span></span></strong><br />\n<br />\n<strong><span style="font-family: arial\, sans-serif\;"><span style="font-size: 12pt\;">Wednesday\, February 24th | 12 - 1 p.m.</span></span></strong><br />\n<span style="font-family: arial\, sans-serif\;"><span style="font-size: 12pt\;">Chamber members only | Free to attend - Advanced registration required</span><br />\n<br />\n<span style="font-size: 10.5pt\;">The Chamber is in the business of facilitating valuable connections between our members. Every other month\, we invite a small group of members to participate in a conversation over lunch to discuss business issues that are pressing to their organization. 12@12 is always facilitated by a Chamber board member.</span></span><br />\n<br />\n<span style="font-family: arial\, sans-serif\;"><span style="font-size: 10.5pt\;">Space is limited to 11 members. Advanced registration required.<br />\n<br />\nZoom&nbsp\;Meeting Link will be included in your event registration. If you have any questions or need additional assistance\, please contact:</span></span><br />\n<br />\n<strong style="font-family: arial\, sans-serif\; font-size: 16px\;">Deb Mueller<br />\nManager\, Business Growth</strong><br style="font-family: arial\, sans-serif\; font-size: 16px\;" />\n<span style="font-family: arial\, sans-serif\; font-size: 16px\;">Cell: 309.207.1812<br />\nOffice: 563.823.2661</span><br style="font-family: arial\, sans-serif\; font-size: 16px\;" />\n<span style="font-family: arial\, sans-serif\; font-size: 16px\;">Email: dmueller@quadcitieschamber.com</span><br />\n<br />\n<br />\n<br />\n&nbsp\;
LOCATION:Virtual event | Zoom Meeting link will be included in your event confirmation.
UID:e.2843.18449
SEQUENCE:3
DTSTAMP:20260421T050028Z
URL:https://member.quadcitieschamber.com/events/details/virtual-event-12-12-lunch-with-leaders-featuring-corri-spiegel-davenport-city-administrator-18449
END:VEVENT

END:VCALENDAR
