BEGIN:VCALENDAR
VERSION:2.0
PRODID:-//ChamberMaster//Event Calendar 2.0//EN
METHOD:PUBLISH
X-PUBLISHED-TTL:P3D
REFRESH-INTERVAL:P3D
CALSCALE:GREGORIAN
BEGIN:VEVENT
DTSTART:20210319T140000Z
DTEND:20210319T150000Z
X-MICROSOFT-CDO-ALLDAYEVENT:FALSE
SUMMARY:Virtual Event | 2021 Legislative Event Series: Advocating for Chad Pregracke's historic plans for the Quad Cities
DESCRIPTION:Virtual Event | 2021 Legislative Event Series: Advocating for Chad Pregracke's historic plans for the Quad Cities\n\n\n\nFriday\, March 19 | 9 - 10 a.m.\n\nFree to attend | Advance registration required\n\n\n\nUse this link to join today's meeting:\n\n \n\nhttps://youtu.be/erBlo-kanZI\n\nFollowing the public announcement of a historic new project plan for the Quad Cities\, join Chad Pregracke\, members of his team and Illinois State Sen. Neil Anderson to learn how you can help make this "once-in-a-lifetime opportunity" a reality. \n\nQuad Cities Chamber President & CEO Paul Rumler said the project will help the region attract and retain people as well as investment and "really put the Quad Cities on the map." Once Quad Citizens hear the details\, he added\, "We hope everybody else will sign on and support this plan."\n\nLegislative Event Series participants:\n\n\n	Chad Pregracke\, President & Founder\, Living Lands and Waters\n\n\n\n	Matthew Hughes\, Consultant\, MRH Solutions\, LLC\n\n\n\n	Kevin Marchek\, PE\, Retired\, Illinois Department of Transportation\n\n\n\n	Illinois State Sen. Neil Anderson\n\n\nFor event assistance or any additional information\, please contact:\n\nTerri Smith\n\nPhone (563) 823-2694\n\nEmail: tsmith@quadcitieschamber.com
X-ALT-DESC;FMTTYPE=text/html:<p><strong><span style="font-size:18px\;"><font face="arial">Virtual Event | 2021 Legislative Event Series: Advocating for Chad Pregracke&#39\;s historic plans&nbsp\;for the Quad Cities</font></span><br />\n<br />\n<span style="font-family:arial\;"><span style="font-size:16px\;"><span style="background:white\;"><span style="color:#273238\;">Friday\, March 19 | 9 - 10 a.m.<br />\nFree to attend | Advance registration required</span></span></span></span></strong><br />\n<br />\n<strong><span style="font-size:16px\;"><span style="color: rgb(51\, 51\, 51)\; font-family: sans-serif\, Arial\, Verdana\, &quot\;Trebuchet MS&quot\;\;"><span style="background-color:#FFFF00\;">Use this link to join today&#39\;s&nbsp\;meeting:</span></span></span></strong><br style="color: rgb(51\, 51\, 51)\; font-family: sans-serif\, Arial\, Verdana\, &quot\;Trebuchet MS&quot\;\; font-size: 13px\;" />\n<span style="color: rgb(51\, 51\, 51)\; font-family: sans-serif\, Arial\, Verdana\, &quot\;Trebuchet MS&quot\;\; font-size: 13px\; background-color: rgb(255\, 255\, 255)\;">&nbsp\;</span><br style="color: rgb(51\, 51\, 51)\; font-family: sans-serif\, Arial\, Verdana\, &quot\;Trebuchet MS&quot\;\; font-size: 13px\;" />\n<span style="font-size:16px\;"><strong style="color: rgb(51\, 51\, 51)\; font-family: sans-serif\, Arial\, Verdana\, &quot\;Trebuchet MS&quot\;\; font-size: 13px\;"><a href="https://youtu.be/erBlo-kanZI" style="color: rgb(7\, 130\, 193)\;"><span style="background-color:#FFFF00\;">https://youtu.be/erBlo-kanZI</span></a></strong></span></p>\n\n<p><span style="font-size:16px\;"><span style="font-family:arial\;">Following the <a href="https://bisonbridge.org/live-stream" target="_blank">public announcement</a> of a historic new project plan for the Quad Cities\, join Chad Pregracke\, members of his team and Illinois&nbsp\;State Sen. Neil Anderson to learn how you can help make this &quot\;once-in-a-lifetime opportunity&quot\; a reality.&nbsp\;</span></span></p>\n\n<p><span style="font-size:16px\;"><span style="font-family:arial\;">Quad Cities Chamber President &amp\; CEO Paul Rumler said the project will&nbsp\;help the region attract and retain&nbsp\;people as well as investment and &quot\;really put the Quad Cities on the map.&quot\; Once Quad Citizens hear the details\, he added\, &quot\;We hope&nbsp\;</span></span><span style="font-size:16px\;"><span style="font-family:arial\;">everybody else will sign on and support this plan.&quot\;</span></span></p>\n\n<p><font face="arial"><span style="font-size: 16px\;"><strong>Legislative Event Series participants:</strong></span></font></p>\n\n<ul>\n	<li><span style="font-size:16px\;"><span style="font-family:arial\;">Chad Pregracke\, President &amp\; Founder\, Living Lands and Waters</span></span></li>\n</ul>\n\n<ul>\n	<li><span style="font-size:16px\;"><span style="font-family:arial\;">Matthew Hughes\, Consultant\,&nbsp\;MRH Solutions\, LLC</span></span></li>\n</ul>\n\n<ul>\n	<li><span style="font-size:16px\;"><span style="font-family:arial\;">Kevin Marchek\, PE\,&nbsp\;Retired\,&nbsp\;Illinois Department of Transportation</span></span></li>\n</ul>\n\n<ul>\n	<li><span style="font-size:16px\;"><span style="font-family:arial\;">Illinois State Sen. Neil Anderson</span></span></li>\n</ul>\n\n<p><span style="font-size:16px\;"><span style="font-family: arial\;"><strong>For event assistance or any additional information</strong>\,&nbsp\;</span><strong>please contact:</strong><br />\nTerri Smith<br />\nPhone (563) 823-2694<br />\nEmail: tsmith@quadcitieschamber.com</span></p>\n
LOCATION:Virtual event | Advance registration required
UID:e.2843.18762
SEQUENCE:3
DTSTAMP:20260421T033609Z
URL:https://member.quadcitieschamber.com/events/details/virtual-event-2021-legislative-event-series-advocating-for-chad-pregracke-s-historic-plans-for-the-quad-cities-18762
END:VEVENT

END:VCALENDAR
