BEGIN:VCALENDAR
VERSION:2.0
PRODID:-//ChamberMaster//Event Calendar 2.0//EN
METHOD:PUBLISH
X-PUBLISHED-TTL:P3D
REFRESH-INTERVAL:P3D
CALSCALE:GREGORIAN
BEGIN:VEVENT
DTSTART:20210423T140000Z
DTEND:20210423T144500Z
X-MICROSOFT-CDO-ALLDAYEVENT:FALSE
SUMMARY:Virtual Event | 2021 Legislative Event Series: Highlighting the Future of Transportation in the Quad Cities
DESCRIPTION:Virtual Event | 2021 Legislative Event Series | Highlighting the Future of Transportation in the Quad Cities\n\n\n\nFriday\, April 23 | 9 - 9:45 a.m.\n\nFree to attend | Advance Registration Required\n\n\n\nMEETING LINK: Click the link below to join our Legislative Event Series\n\n\nhttps://us02web.zoom.us/j/81659183500?pwd=WWZTZHN2RFhSRG1DYVJoZ0wyVW9SQT09\n\n\nPlease join the Chamber's Government Affairs team and local stakeholders for a conversation regarding the future of transportation projects in the Quad Cities. With the newly proposed American Jobs Plan being debated in Washington D.C.\, hear from experts how the plan could affect current and potential projects on both sides of the river.\n\n\n\nMeet our speakers:\n\n\n	Ben Leischner\, Executive Director\, Quad Cities International Airport\n	Jeff Nelson\, General Manager\, MetroLINK\n	Denise Bulat\, Executive Director\, Bi-State Regional Commission\n	Doug House\, Deputy Secretary\, Illlinois Department of Transportation\n\n\nFor event assistance or any additional information\, please contact:\n\nTerri Smith\n\nPhone (563) 823-2694\n\nEmail: tsmith@quadcitieschamber.com
X-ALT-DESC;FMTTYPE=text/html:<strong><span style="font-size:18px\;"><font face="arial">Virtual Event | 2021 Legislative Event Series | Highlighting the Future of Transportation in the Quad Cities</font></span><br />\n<br />\n<span style="font-size:16px\;"><span style="background:white\;"><span style="color:#273238\;">Friday\, April 23 | 9 - 9:45 a.m.<br />\nFree to attend | Advance Registration Required</span></span></span></strong><br />\n<br />\n<span style="font-size:16px\;"><strong font-size:="" style="color: rgb(51\, 51\, 51)\; font-family: sans-serif\, Arial\, Verdana\, &quot\;Trebuchet MS&quot\;\; font-size: 13px\;" trebuchet=""><span style="background-color: rgb(0\, 255\, 0)\;">MEETING LINK:</span>&nbsp\;Click the link below to join our Legislative Event Series</strong></span>\n<div style="color: rgb(51\, 51\, 51)\; font-family: sans-serif\, Arial\, Verdana\, &quot\;Trebuchet MS&quot\;\; font-size: 13px\;"><br />\n<span style="font-size:16px\;"><strong><span style="background-color: rgb(255\, 255\, 0)\;">https://us02web.zoom.us/j/81659183500?pwd=WWZTZHN2RFhSRG1DYVJoZ0wyVW9SQT09</span></strong></span></div>\n<br />\n<span style="font-size:16px\;"><span style="font-family:arial\;">Please join the Chamber&rsquo\;s Government Affairs team and local stakeholders for a conversation regarding the future of transportation projects in the Quad Cities. With the newly proposed American Jobs Plan being debated in Washington D.C.\, hear from experts how the plan could affect current and potential projects on both sides of the river.<br />\n<br />\nMeet our speakers:</span></span>\n\n<ul>\n	<li><span style="font-size:16px\;"><span style="font-family:arial\;">Ben Leischner\, Executive Director\, Quad Cities International Airport</span></span></li>\n	<li><span style="font-size:16px\;"><span style="font-family:arial\;">Jeff Nelson\, General Manager\, MetroLINK</span></span></li>\n	<li><span style="font-size:16px\;">Denise Bulat\, Executive Director\, Bi-State Regional Commission</span></li>\n	<li><span style="font-size:16px\;">Doug House\, Deputy Secretary\, Illlinois Department of Transportation</span></li>\n</ul>\n\n<p><span style="font-size:16px\;"><span style="font-family: arial\;"><strong>For event assistance or any additional information</strong>\,&nbsp\;</span><strong>please contact:</strong><br />\nTerri Smith<br />\nPhone (563) 823-2694<br />\nEmail: tsmith@quadcitieschamber.com</span></p>\n\n<div>&nbsp\;</div>\n
LOCATION:Zoom meeting | Advance registration required.
UID:e.2843.18765
SEQUENCE:3
DTSTAMP:20260421T020149Z
URL:https://member.quadcitieschamber.com/events/details/virtual-event-2021-legislative-event-series-highlighting-the-future-of-transportation-in-the-quad-cities-18765
END:VEVENT

END:VCALENDAR
