BEGIN:VCALENDAR
VERSION:2.0
PRODID:-//ChamberMaster//Event Calendar 2.0//EN
METHOD:PUBLISH
X-PUBLISHED-TTL:P3D
REFRESH-INTERVAL:P3D
CALSCALE:GREGORIAN
BEGIN:VEVENT
DTSTART:20210219T150000Z
DTEND:20210219T153000Z
X-MICROSOFT-CDO-ALLDAYEVENT:FALSE
SUMMARY:Virtual Event | 2021 Legislative Event Series: Legislative Updates
DESCRIPTION:Virtual Event | 2021 Legislative Event Series: Legislative Updates\n\n\n\nFriday\, February 19 | 9 - 9:30 a.m.\n\nFree to attend | Advance registration required\n\nZoom Meeting Link will be included in your registration confirmation\n\n\n\nPlease join our Government Affairs team for updates from Des Moines\, Springfield and Washington D.C. Topics will include: legislation moving through the Iowa Statehouse\, a recap of Governor Pritzker's State of the State and Budget Address taking place Wednesday\, February 17 and relevant federal news from our Congressional delegation.\n\n\n\nJake Ford\, Director of Government Affairs\, will also highlight the new bill tracking page on the Chamber's website.\n\n\n\nTime will be available for a Q&A session. If you would like to submit your questions in advance about any state or federal legislation or Chamber priorities\, please fill out this form.\n\n\nFor event assistance or any additional information\, please contact:\n\nTerri Smith\n\nPhone (563) 823-2694\n\nEmail: tsmith@quadcitieschamber.com
X-ALT-DESC;FMTTYPE=text/html:<strong><span style="font-size:18px\;"><font face="arial">Virtual Event | 2021 Legislative Event Series:<span style="font-family:arial\;">&nbsp\;Legislative Updates</span></font></span><br />\n<br />\n<span style="font-size:16px\;"><span style="font-family:arial\;">Friday\, February 19 | 9 - 9:30 a.m.<br />\nFree to attend | Advance registration required<br />\n<span style="background-color:#FFFF00\;">Zoom Meeting Link will be included in your registration confirmation</span></span></span></strong><br />\n<br />\n<span style="font-size:16px\;"><span style="font-family:arial\;">Please join our Government Affairs team for updates from Des Moines\, Springfield and Washington D.C. Topics will include: legislation moving through the Iowa Statehouse\, a recap of Governor Pritzker&#39\;s State of the State and Budget Address taking place Wednesday\, February 17 and relevant federal news from our Congressional delegation.<br />\n<br />\nJake Ford\, Director of Government Affairs\, will also highlight the new bill tracking page on the Chamber&#39\;s website.<br />\n<br />\nTime will be available for a Q&amp\;A session.&nbsp\;</span></span><font face="arial"><span style="font-size: 16px\;">If you would like to submit your questions in advance about any state or federal legislation or Chamber priorities\, please <a href="https://quadcitieschamber.ivolunteers.com/Surveys/Legislative-Event-Series" target="_blank">fill out this form</a>.</span></font>\n<p><br />\n<span style="font-size:16px\;"><span style="font-family: arial\;"><strong>For event assistance or any additional information</strong>\,&nbsp\;</span><strong>please contact:</strong><br />\nTerri Smith<br />\nPhone (563) 823-2694<br />\nEmail: tsmith@quadcitieschamber.com</span></p>\n\n<div>&nbsp\;</div>\n
LOCATION:Zoom meeting | Advance registration required.
UID:e.2843.18760
SEQUENCE:3
DTSTAMP:20260421T044934Z
URL:https://member.quadcitieschamber.com/events/details/virtual-event-2021-legislative-event-series-legislative-updates-18760
END:VEVENT

END:VCALENDAR
