BEGIN:VCALENDAR
VERSION:2.0
PRODID:-//ChamberMaster//Event Calendar 2.0//EN
METHOD:PUBLISH
X-PUBLISHED-TTL:P3D
REFRESH-INTERVAL:P3D
CALSCALE:GREGORIAN
BEGIN:VEVENT
DTSTART:20210205T150000Z
DTEND:20210205T154500Z
X-MICROSOFT-CDO-ALLDAYEVENT:FALSE
SUMMARY:Virtual Event | 2021 Legislative Event Series: Proposed Changes to Education In Iowa and Illinois
DESCRIPTION:Virtual Event | 2021 Legislative Event Series: Proposed Changes to Education in Iowa and Illinois\n\n\n\nFriday\, February 5 | 9 - 9:45 a.m.\n\nFree to attend | Advance Registration Required\n\nZoom Meeting Link will be included in your registration confirmation\n\n\n\nJoin us for a speaker panel with superintendents from both Iowa and Illinois to discuss issues they are facing and the impact on our Quad Cities school districts\, workforce and community as a whole.\n\n \n\nIowa: The Iowa Legislature is currently debating legislation that would implement a variety of changes to the Iowa Code regarding education. Some of the changes being debated include Voluntary Diversity Plans\, charter schools\, in-person instruction\, and a new proposed grant program Student First Scholarship Program. \n\n \n\nIllinois: Illinois educators are impacted by remote learning in Illinois\, the need for reliable internet for all students and recent efforts Illinois school districts have taken to make this a reality.  \n\n \n\nThere will be time for Q&A.\n\n\n\nFeatured Speakers:\n\n	Dr. Michelle Morse\, Superintendent\, Bettendorf Community School District\n	TJ Schneckloth\, Superintendent\, Davenport Community School District\n	Joe Stutting\, Superintendent\, North Scott Community School District\n	Dr. Jay Morrow\, Superintendent\, United Township High School District 30\n\n\nFor event assistance or any additional information\, please contact:\n\nTerri Smith\n\nPhone (563) 823-2694\n\nEmail: tsmith@quadcitieschamber.com
X-ALT-DESC;FMTTYPE=text/html:<strong><span style="font-size:18px\;"><font face="arial">Virtual Event | 2021 Legislative Event Series: Proposed Changes to Education in Iowa and Illinois</font></span><br />\n<br />\n<span style="font-size:16px\;"><span style="background:white\;"><span style="color:#273238\;">Friday\, February 5 | 9 - 9:45 a.m.<br />\nFree to attend | Advance Registration Required</span></span></span></strong><br />\n<span style="font-size:16px\;"><strong><span style="background:yellow\;"><span style="color:#273238\;"><span style="font-family:arial\,sans-serif\;">Zoom Meeting Link will be included in your registration confirmation</span></span></span></strong></span><br />\n<br />\n<span style="color:#333333\;"><span style="font-family:arial\,sans-serif\;"><span style="font-size:12.0pt\;">Join us for a speaker panel with superintendents from both Iowa and Illinois to discuss issues they are facing and the impact on our Quad Cities school districts\, workforce and community as a whole.</span></span></span><br />\n&nbsp\;<br />\n<span style="color:#333333\;"><span style="font-family:arial\,sans-serif\;"><span style="font-size:12.0pt\;">Iowa: The Iowa Legislature is currently debating legislation that would implement a variety of changes to the Iowa Code regarding education. Some of the changes being debated include Voluntary Diversity Plans\, charter schools\, in-person instruction\, and a new proposed grant program Student First Scholarship Program. </span></span></span><br />\n&nbsp\;<br />\n<span style="color:#333333\;"><span style="font-family:arial\,sans-serif\;"><span style="font-size:12.0pt\;">Illinois: Illinois educators are impacted by </span></span></span><span style="background:white\;"><span style="color:#273238\;"><span style="font-family:arial\,sans-serif\;"><span style="font-size:12.0pt\;">remote learning in Illinois\, the need for reliable internet for all students and recent efforts Illinois school districts have taken to make this a reality. &nbsp\;</span></span></span></span><br />\n&nbsp\;<br />\n<span style="background:white\;"><span style="color:#273238\;"><span style="font-family:arial\,sans-serif\;"><span style="font-size:12.0pt\;">There will be time for Q&amp\;A.</span></span></span></span><br />\n<br />\n<strong><span style="color:#273238\;"><span style="font-family:arial\,sans-serif\;"><span style="font-size:12.0pt\;">Featured Speakers:</span></span></span></strong>\n<ul>\n	<li style="color:#273238\;background:white\;"><strong><span style="font-family:arial\,sans-serif\;"><span style="font-size:12.0pt\;">Dr. Michelle Morse</span></span></strong><span style="font-family:arial\,sans-serif\;"><span style="font-size:12.0pt\;">\,&nbsp\;<span style="background:white\;">Superintendent\, Bettendorf Community School District</span></span></span></li>\n	<li style="color:#273238\;background:white\;"><strong><span style="background:white\;"><span style="font-family:arial\,sans-serif\;"><span style="font-size:12.0pt\;">TJ Schneckloth\,&nbsp\;</span></span></span></strong><span style="background:white\;"><span style="font-family:arial\,sans-serif\;"><span style="font-size:12.0pt\;">Superintendent\, Davenport Community School District</span></span></span></li>\n	<li style="color:#273238\;background:white\;"><strong><span style="background:white\;"><span style="font-family:arial\,sans-serif\;"><span style="font-size:12.0pt\;">Joe Stutting</span></span></span></strong><span style="background:white\;"><span style="font-family:arial\,sans-serif\;"><span style="font-size:12.0pt\;">\,&nbsp\;Superintendent\, North Scott Community School District</span></span></span></li>\n	<li style="color:#273238\;background:white\;"><strong><span style="background:white\;"><span style="font-family:arial\,sans-serif\;"><span style="font-size:12.0pt\;">Dr. Jay Morrow</span></span></span></strong><span style="background:white\;"><span style="font-family:arial\,sans-serif\;"><span style="font-size:12.0pt\;">\, Superintendent\, United Township High School District 30</span></span></span></li>\n</ul>\n\n<p><span style="font-size:16px\;"><span style="font-family: arial\;"><strong>For event assistance or any additional information</strong>\,&nbsp\;</span><strong>please contact:</strong><br />\nTerri Smith<br />\nPhone (563) 823-2694<br />\nEmail: tsmith@quadcitieschamber.com</span></p>\n\n<div>&nbsp\;</div>\n
LOCATION:Zoom meeting | Advance registration required.
UID:e.2843.18744
SEQUENCE:3
DTSTAMP:20260421T045926Z
URL:https://member.quadcitieschamber.com/events/details/virtual-event-2021-legislative-event-series-proposed-changes-to-education-in-iowa-and-illinois-18744
END:VEVENT

END:VCALENDAR
