BEGIN:VCALENDAR
VERSION:2.0
PRODID:-//ChamberMaster//Event Calendar 2.0//EN
METHOD:PUBLISH
X-PUBLISHED-TTL:P3D
REFRESH-INTERVAL:P3D
CALSCALE:GREGORIAN
BEGIN:VEVENT
DTSTART:20201001T150000Z
DTEND:20201001T153000Z
X-MICROSOFT-CDO-ALLDAYEVENT:FALSE
SUMMARY:Virtual Event | Adapting Your Business to a New Payment Landscape featuring Brad Munos of US Bank
DESCRIPTION:Event placeholder
X-ALT-DESC;FMTTYPE=text/html:<font face="arial\, sans-serif"><span style="font-size: 18px\;"><b>Event placeholder</b></span></font>
LOCATION:Join Zoom Meeting. Advance registration required.
UID:e.2843.18179
SEQUENCE:3
DTSTAMP:20260421T125926Z
URL:https://member.quadcitieschamber.com/events/details/virtual-event-adapting-your-business-to-a-new-payment-landscape-featuring-brad-munos-of-us-bank-18179
END:VEVENT

END:VCALENDAR
