BEGIN:VCALENDAR
VERSION:2.0
PRODID:-//ChamberMaster//Event Calendar 2.0//EN
METHOD:PUBLISH
X-PUBLISHED-TTL:P3D
REFRESH-INTERVAL:P3D
CALSCALE:GREGORIAN
BEGIN:VEVENT
DTSTART:20200916T140000Z
DTEND:20200916T150000Z
X-MICROSOFT-CDO-ALLDAYEVENT:FALSE
SUMMARY:Virtual Event | AMp Up Morning Networking
DESCRIPTION:Virtual Event | AMp Up Morning Networking\n\nWednesday\, September 16\n\n9:00 AM - 10 AM Program\n\n\n\nEmployer Update on Return to Learn: What you need to know for your employees with school-aged children\n\n \n\nWith school in session for a few weeks   whether virtual\, in-person or a combination   employers are assessing what their employees need. Are your employees needing more flexible schedules\, childcare or access to other services to keep them on your team and motivated?\n\n \n\nLearn from local school superintendents how things are shaping up for this school year. Hear their lessons learned and projections for the remainder of the year.\n\n \n\nChildcare resource and referral providers from Iowa and Illinois will share what resources are available for parents\, the COVID-19 safety protocols childcare providers need to follow and what is currently happening in our region.\n\n \n\nSpeakers:\n\n\n	Dr. Reginald Lawrence\, Superintendent\, Rock Island-Milan School District #41\n	Brian Strusz\, Superintendent\, Pleasant Valley Community School District\n	April Berthiaume\, SAL Family and Community Services (Child Care Resource and Referral of Midwestern Illinois)\n\n\nWe strive to host inclusive and accessible events that enable all individuals to engage fully.\n\n\n\nFor event assistance or any additional information please contact:\n\nFor event assistance\, please call 563.322.1706 ext. 0. Chamber staff will be available to assist you.\n\n\n\n\n\n Cancellation Policy:\n\nCancellations must be received at least 72 hours in advance in order to receive a registration refund. You may transfer your registration to another person within your company at no additional cost.
X-ALT-DESC;FMTTYPE=text/html:<p><span style="font-size:16px\;"><span style="font-family:arial\;"><strong><span style="background:white\;"><span style="color:#273238\;">Virtual Event | AMp Up Morning Networking<br />\nWednesday\, September 16</span></span></strong><br />\n<span style="background:white\;"><span style="color:#333333\;">9:00 AM - 10 AM Program</span></span></span></span><br />\n<br />\n<span style="font-size:16px\;"><span style="font-family:arial\;"><strong>Employer Update on Return to Learn: What you need to know for your employees with school-aged children</strong><br />\n&nbsp\;<br />\nWith school in session for a few weeks </span></span><span style="font-family: arial\; font-size: 16px\;">&ndash\;</span><span style="font-size:16px\;"><span style="font-family:arial\;"> whether virtual\, in-person or a combination &ndash\; employers are assessing what their employees need. Are your employees needing more flexible schedules\, childcare or access to other services to keep them on your team and motivated?<br />\n&nbsp\;<br />\nLearn from local&nbsp\;school superintendents how things are shaping up for this school year. Hear their lessons learned and projections for the remainder of the year.<br />\n&nbsp\;<br />\nChildcare resource and referral providers from Iowa and Illinois will share what resources are available for parents\, the COVID-19 safety protocols childcare providers need to follow and what is currently happening in our region.<br />\n&nbsp\;<br />\n<strong>Speakers:</strong></span></span></p>\n\n<ul>\n	<li><span style="font-family:arial\;"><span style="font-size:16px\;"><strong>Dr. Reginald Lawrence</strong>\, Superintendent\, Rock Island-Milan School District #41</span></span></li>\n	<li><span style="font-size:16px\;"><span style="font-family:arial\;"><strong>Brian Strusz</strong>\, Superintendent\, Pleasant Valley Community School District</span></span></li>\n	<li><span style="font-size:16px\;"><span style="font-family:arial\;"><strong>April Berthiaume</strong>\, SAL Family and Community Services (</span></span><span style="color: rgb(66\, 66\, 66)\; font-family: proxima-nova\, sans-serif\; font-size: 15px\;">Child Care Resource and Referral of Midwestern Illinois)</span></li>\n</ul>\n\n<p><span style="font-family: arial\; font-size: 16px\;">We strive to host inclusive and accessible events that enable all individuals to engage fully.<br />\n<br />\nFor event assistance or any additional information please contact:</span></p>\n\n<p><span style="color: rgb(39\, 50\, 56)\; font-family: Arial\, sans-serif\; font-size: 16px\; font-weight: 700\;">For event assistance\, please call 563.322.1706 ext. 0. Chamber staff will be available to assist you.</span><br style="font-family: arial\; font-size: 16px\;" />\n<br />\n<br />\n<span style="font-size:16px\;"><span style="font-family:arial\;"><u style="font-family: arial\; font-size: 16px\;">&#8203\;Cancellation&nbsp\;Policy:</u><br style="font-family: Arial\;" />\nCancellations&nbsp\;must be received at least 72 hours in advance in order to receive a registration refund. You may transfer your registration to another person within your company at no additional cost.</span></span></p>\n
LOCATION:Virtual event | Advance registration required to receive event link. A Zoom link will be sent out after 2:00 pm on Tuesday\, September 15.
UID:e.2843.16940
SEQUENCE:3
DTSTAMP:20260421T123416Z
URL:https://member.quadcitieschamber.com/events/details/virtual-event-amp-up-morning-networking-16940
END:VEVENT

END:VCALENDAR
