BEGIN:VCALENDAR
VERSION:2.0
PRODID:-//ChamberMaster//Event Calendar 2.0//EN
METHOD:PUBLISH
X-PUBLISHED-TTL:P3D
REFRESH-INTERVAL:P3D
CALSCALE:GREGORIAN
BEGIN:VEVENT
DTSTART:20201021T160000Z
DTEND:20201021T170000Z
X-MICROSOFT-CDO-ALLDAYEVENT:FALSE
SUMMARY:Virtual Event | Business Exchange
DESCRIPTION:Virtual Event | Business Exchange\n\nWednesday\, October 21 | 11 a.m. - 12 p.m.\n\nFREE for Chamber Members | Advanced registration required\n\nZOOM MEETING LINK FOR TODAY'S EVENT: \n\nJoin via Zoom:\n\nhttps://us02web.zoom.us/j/86548024032\n\n\n\nThis program is not compatible with chrome books.\n\n\n\nDuring these unprecedented times\, finding new ways to make connections are paramount. Business Exchange is the perfect opportunity to make new connections with Chamber members to grow your business.\n\n\n\nJill Wilson of Simple Machines Marketing will provide game-changing business tips to get your foot in the door using the latest virtual technologies. \n\n\n\nIn breakout rooms\, you'll have the opportunity to share with each other your best ideas to get new sales and make establish new business contacts.\n\n\n\nRick Davis will share tips to feel comfortable and confident in building your professional relationships in any environment   whether it's virtual or in-person.\n\n\n\nWhat to expect:\n\n\n	This virtual networking event will be held on Zoom\n\n\n\n	Guests will be placed in virtual breakout rooms of 4 or 5\n\n\n\n	First round (20 minutes) - each person will introduce themselves\, then discuss a topic \n\n\n\n	Second round (20 minutes) - switch to a new virtual room\, meet new people and repeat\n\n\n\n\nRegister by 9 a.m. on Tuesday\, October 20. Maximum capacity for this event is 100 and available to Chamber members only. We will maintain a waiting list for registrations exceeding this amount.\n\n\n\nZOOM MEETING LINK: \n\n\n\nJoin Zoom Meeting\n\nhttps://us02web.zoom.us/j/86548024032\n\n\n\nThis program is not compatible with chrome books.\n\n\n\nAfter the event\, you'll receive a full contact list of all attendees\, including email. (By registering for this event\, you agree to have your email shared with attendees.)\n\n\n\nWe strive to host inclusive and accessible events that enable all individuals to engage fully. For event assistance or any additional information\, please contact:\nTerri Smith\n\nPhone: 563.823.2694\n\nEmail: tsmith@quadcitieschamber.com\n\n\n\n Cancellation Policy:\n\nCancellations must be received at least 72 hours in advance in order to receive a registration refund. You may transfer your registration to another person within your company at no additional cost.
X-ALT-DESC;FMTTYPE=text/html:<p><strong style="font-size: 16px\; font-family: arial\;">Virtual Event | Business Exchange<br />\nWednesday\, October 21&nbsp\;| 11 a.m. - 12 p.m.</strong><br />\n<span style="font-size:14px\;"><strong>FREE for Chamber Members | Advanced registration required</strong></span></p>\n\n<p font-size:="" style="color: rgb(51\, 51\, 51)\; font-family: sans-serif\, Arial\, Verdana\, " trebuchet=""><strong><span style="color: rgb(39\, 50\, 56)\;"><span style="font-family: arial\, sans-serif\;"><span style="font-size: 12pt\;"><span style="background-color:#FFFF00\;">ZOOM MEETING LINK FOR TODAY&#39\;S EVENT:</span></span></span></span></strong><span style="color: rgb(39\, 50\, 56)\;"><span style="font-family: arial\, sans-serif\;"><span style="font-size: 12pt\;"><span style="background-color:#FFFF00\;">&nbsp\;</span></span></span></span><br />\n<span style="font-size:16px\;"><strong>Join via Zoom:</strong><br />\n<a href="https://us02web.zoom.us/j/86548024032">https://us02web.zoom.us/j/86548024032</a></span><br />\n<br />\n<span style="color: rgb(39\, 50\, 56)\;"><span style="font-family: arial\, sans-serif\;"><span style="font-size: 12pt\;">This program is not compatible with chrome books.</span></span></span><br />\n<br />\n<span style="background:white\;"><span style="color:#273238\;"><span style="font-family:arial\,sans-serif\;"><span style="font-size:12.0pt\;">During these unprecedented times\, finding new ways to make connections are paramount. Business Exchange is the perfect opportunity to make new connections with Chamber members to grow your business.</span></span></span></span><br />\n<br />\n<span style="color:#2D2926\;"><span style="font-family:arial\,sans-serif\;"><span style="font-size:12.0pt\;">Jill Wilson of Simple Machines Marketing&nbsp\;will provide game-changing business tips to get your foot in the door using the latest virtual technologies. </span></span></span><br />\n<br />\n<span style="color:#2D2926\;"><span style="font-family:arial\,sans-serif\;"><span style="font-size:12.0pt\;">In breakout rooms\, you&rsquo\;ll have the opportunity to share with each other your best ideas to get new sales and make establish new business contacts.</span></span></span><br />\n<br />\n<span style="color:#2D2926\;"><span style="font-family:arial\,sans-serif\;"><span style="font-size:12.0pt\;">Rick Davis will share tips to feel comfortable and confident in building your professional relationships in any environment &ndash\; whether it&rsquo\;s virtual or in-person.</span></span></span><br />\n<br />\n<strong><span style="color:#273238\;"><span style="font-family:arial\,sans-serif\;"><span style="font-size:12.0pt\;">What to expect:</span></span></span></strong></p>\n\n<ul>\n	<li style="color:#273238\;margin-bottom:0in\;line-height:normal\;background:white\;"><span style="font-family:arial\,sans-serif\;"><span style="font-size:12.0pt\;">This virtual networking event will be held on Zoom</span></span></li>\n</ul>\n\n<ul>\n	<li style="color:#273238\;margin-bottom:0in\;line-height:normal\;background:white\;"><span style="font-family:arial\,sans-serif\;"><span style="font-size:12.0pt\;">Guests will be placed in virtual&nbsp\;breakout rooms of 4 or 5</span></span></li>\n</ul>\n\n<ul>\n	<li style="color:#273238\;margin-bottom:0in\;line-height:normal\;background:white\;"><span style="font-family:arial\,sans-serif\;"><span style="font-size:12.0pt\;">First round (20&nbsp\;minutes) - each person will introduce themselves\, then discuss a topic&nbsp\;</span></span></li>\n</ul>\n\n<ul>\n	<li style="color:#273238\;margin-bottom:0in\;line-height:normal\;background:white\;"><span style="font-family:arial\,sans-serif\;"><span style="font-size:12.0pt\;">Second round (20&nbsp\;minutes) - switch to a new virtual&nbsp\;room\, meet new people and repeat</span></span></li>\n</ul>\n\n<p font-size:="" style="color: rgb(51\, 51\, 51)\; font-family: sans-serif\, Arial\, Verdana\, " trebuchet=""><br />\n<strong><span style="color:#273238\;"><span style="font-family:arial\,sans-serif\;"><span style="font-size:12.0pt\;">Register by 9&nbsp\;a.m. on Tuesday\, October&nbsp\;20. Maximum capacity for this event is 100 and available to Chamber members only. We will maintain a waiting list for registrations exceeding this amount.</span></span></span></strong><br />\n<br />\n<strong><span style="color:#273238\;"><span style="font-family:arial\,sans-serif\;"><span style="font-size:12.0pt\;">ZOOM MEETING LINK:</span></span></span></strong><span style="color:#273238\;"><span style="font-family:arial\,sans-serif\;"><span style="font-size:12.0pt\;">&nbsp\;</span></span></span><br />\n<br />\n<span style="font-size:14px\;">Join Zoom Meeting<br />\n<a href="https://us02web.zoom.us/j/86548024032">https://us02web.zoom.us/j/86548024032</a></span><br />\n<br />\n<span style="color:#273238\;"><span style="font-family:arial\,sans-serif\;"><span style="font-size:12.0pt\;">This program is not compatible with chrome books.</span></span></span><br />\n<br />\n<span style="color:#273238\;"><span style="font-family:arial\,sans-serif\;"><span style="font-size:12.0pt\;">After the event\, you&#39\;ll receive a full contact list of all attendees\, including email. (By registering for this event\, you agree to have your email shared with attendees.)</span></span></span><br />\n<br />\n<span style="color:#333333\;"><span style="font-family:arial\,sans-serif\;"><span style="font-size:12.0pt\;">We strive to host inclusive and accessible events that enable all individuals to engage fully. For event assistance or any additional information\, please contact:</span></span></span></p>\n<span style="font-family:arial\;"><span style="font-size:16px\;"><b>Terri Smith</b><br />\nPhone: 563.823.2694<br />\nEmail: tsmith<a href="mailto:mhyder@quadcitieschamber.com">@quadcitieschamber.com</a></span></span><br />\n<br />\n<u style="font-family: arial\; font-size: 16px\;">&#8203\;Cancellation&nbsp\;Policy:</u><br style="font-size: 16px\; font-family: Arial\;" />\n<span style="font-family: arial\; font-size: 16px\;">Cancellations&nbsp\;must be received at least 72 hours in advance in order to receive a registration refund. You may transfer your registration to another person within your company at no additional cost.</span>
LOCATION:https://us02web.zoom.us/j/86548024032Virtual Event
UID:e.2843.16943
SEQUENCE:3
DTSTAMP:20260421T111219Z
URL:https://member.quadcitieschamber.com/events/details/virtual-event-business-exchange-10-21-2020-16943
END:VEVENT

END:VCALENDAR
