BEGIN:VCALENDAR
VERSION:2.0
PRODID:-//ChamberMaster//Event Calendar 2.0//EN
METHOD:PUBLISH
X-PUBLISHED-TTL:P3D
REFRESH-INTERVAL:P3D
CALSCALE:GREGORIAN
BEGIN:VEVENT
DTSTART:20210414T160000Z
DTEND:20210414T170000Z
X-MICROSOFT-CDO-ALLDAYEVENT:FALSE
SUMMARY:Virtual Event | Business Exchange
DESCRIPTION:Virtual Event | Business Exchange\n\nWednesday\, April 14 | 11 a.m. - 12 p.m.\n\nThank you to our sponsors for your support to make this event free while virtual\n\n\n\nZoom meeting link included in event registration confirmation. \n\n\n\nDuring these unprecedented times\, finding new ways to make connections is paramount. Business Exchange is the perfect opportunity to make new connections with Chamber members to grow your business.\n\n\n\nIn breakout rooms\, you'll have the opportunity to share with each other your best ideas to get new sales and establish new business contacts.\n\n\n\nRick Davis will share tips to feel comfortable and confident in building your professional relationships in any environment - virtual or in-person.\n\n\n\nJill Golden\, President of Simple Machines\, will share a few tips on website optimization\, how to interpret your Google Analytics and what it can mean to make your website better. \n\n\n\nWhat to expect:\n\n\n	This virtual networking event will be held on Zoom\n\n\n\n	Guests will be placed in virtual breakout rooms of 4 - 5 attendees\n\n\n\n	First round (20 minutes) - each person will introduce themselves\, then discuss a topic \n\n\n\n	Second round (20 minutes) - switch to a new virtual room\, meet new people and repeat\n\n\n\n\nMaximum capacity for this event is 100 and available to Chamber members only. We will maintain a waiting list for registrations exceeding this amount.\n\n\n\nZOOM MEETING LINK: Register now and receive your Zoom Meeting link in your event confirmation email.\n\n\n\nGUEST LIST: You will also receive an email with the guest list of registered attendees after 2 p.m. on April 16th.\n\n\n\nMEETING TIPS:\n\nTo ensure your best experience you should have access to video.\n\nTest your microphone prior to connecting so everyone can hear you.  \n\nThis program is not compatible with Chromebooks.\n\n\n\nAfter the event\, you'll receive a full contact list of all attendees\, including email. (By registering for this event\, you agree to have your email shared with attendees.)\n\n\n\nSPONSORSHIP OPPORTUNITIES AVAILABLE:\n\nLooking to promote your business and grow your connections? We have sponsorship opportunities available. Click here for more details.\n\n\n\nWe strive to host inclusive and accessible events that enable all individuals to engage fully. For event assistance or any additional information\, please contact:\nTerri Smith\n\nPhone: 563.823.2694\n\nEmail: tsmith@quadcitieschamber.com
X-ALT-DESC;FMTTYPE=text/html:<p><strong style="font-size: 16px\; font-family: arial\;">Virtual Event | Business Exchange<br />\nWednesday\, April&nbsp\;14&nbsp\;| 11 a.m. - 12 p.m.<br />\nThank you to our sponsors for your support to make this event free while virtual</strong><br />\n<br />\n<u><span style="box-sizing: border-box\; font-weight: bolder\; outline: 0px\; color: rgb(39\, 50\, 56)\; font-family: Arial\, sans-serif\; font-size: 16px\;"><span style="box-sizing: border-box\; outline: 0px\; color: black\;"><span style="box-sizing: border-box\; outline: 0px\; font-family: arial\, sans-serif\;"><span style="box-sizing: border-box\; outline: 0px\; font-size: 12pt\;"><span style="background-color:#FFFF00\;">Zoom meeting link included in&nbsp\;event registration confirmation.&nbsp\;</span></span></span></span></span></u></p>\n\n<p font-size:="" style="color: rgb(51\, 51\, 51)\; font-family: sans-serif\, Arial\, Verdana\, " trebuchet=""><br />\n<span style="background:white\;"><span style="color:#273238\;"><span style="font-family:arial\,sans-serif\;"><span style="font-size:12.0pt\;">During these unprecedented times\, finding new ways to make connections is paramount. Business Exchange is the perfect opportunity to make new connections with Chamber members to grow your business.</span></span></span></span><br />\n<br />\n<span style="color:#2D2926\;"><span style="font-family:arial\,sans-serif\;"><span style="font-size:12.0pt\;">In breakout rooms\, you&#39\;ll have the opportunity to share with each other your best ideas to get new sales and establish new business contacts.</span></span></span><br />\n<br />\n<span style="color:#2D2926\;"><span style="font-family:arial\,sans-serif\;"><span style="font-size:12.0pt\;">Rick Davis will share tips to feel comfortable and confident in building your professional relationships in any environment -&nbsp\;virtual or in-person.<br />\n<br />\nJill Golden\, President of Simple Machines\, will share a few tips on website optimization\, how to interpret your Google Analytics and what it can mean to make your website better.&nbsp\;</span></span></span><br />\n<br />\n<strong><span style="color:#273238\;"><span style="font-family:arial\,sans-serif\;"><span style="font-size:12.0pt\;">What to expect:</span></span></span></strong></p>\n\n<ul>\n	<li style="color:#273238\;margin-bottom:0in\;line-height:normal\;background:white\;"><span style="font-family:arial\,sans-serif\;"><span style="font-size:12.0pt\;">This virtual networking event will be held on Zoom</span></span></li>\n</ul>\n\n<ul>\n	<li style="color:#273238\;margin-bottom:0in\;line-height:normal\;background:white\;"><span style="font-family:arial\,sans-serif\;"><span style="font-size:12.0pt\;">Guests will be placed in virtual&nbsp\;breakout rooms of 4 -&nbsp\;5 attendees</span></span></li>\n</ul>\n\n<ul>\n	<li style="color:#273238\;margin-bottom:0in\;line-height:normal\;background:white\;"><span style="font-family:arial\,sans-serif\;"><span style="font-size:12.0pt\;">First round (20&nbsp\;minutes) - each person will introduce themselves\, then discuss a topic&nbsp\;</span></span></li>\n</ul>\n\n<ul>\n	<li style="color:#273238\;margin-bottom:0in\;line-height:normal\;background:white\;"><span style="font-family:arial\,sans-serif\;"><span style="font-size:12.0pt\;">Second round (20&nbsp\;minutes) - switch to a new virtual&nbsp\;room\, meet new people and repeat</span></span></li>\n</ul>\n\n<p font-size:="" style="color: rgb(51\, 51\, 51)\; font-family: sans-serif\, Arial\, Verdana\, " trebuchet=""><br />\n<strong><span style="color:#273238\;"><span style="font-family:arial\,sans-serif\;"><span style="font-size:12.0pt\;">Maximum capacity for this event is 100 and available to Chamber members only. We will maintain a waiting list for registrations exceeding this amount.</span></span></span></strong><br />\n<br />\n<strong><span style="color:#273238\;"><span style="font-family:arial\,sans-serif\;"><span style="font-size:12.0pt\;">ZOOM MEETING LINK:</span></span></span></strong><span style="color:#273238\;"><span style="font-family:arial\,sans-serif\;"><span style="font-size:12.0pt\;">&nbsp\;Register now and receive your Zoom Meeting link in your event confirmation email.<br />\n<br />\n<strong>GUEST LIST:</strong> You will also receive an email with the guest list of registered attendees after 2 p.m. on April&nbsp\;16th.<br />\n<br />\n<strong>MEETING TIPS:</strong><br />\nTo ensure your best experience you should have access to video.<br />\nTest your microphone&nbsp\;prior to connecting so everyone can hear you. &nbsp\;<br />\nThis program is not compatible with Chromebooks.</span></span></span><br />\n<br />\n<span style="color:#273238\;"><span style="font-family:arial\,sans-serif\;"><span style="font-size:12.0pt\;">After the event\, you&#39\;ll receive a full contact list of all attendees\, including email. (By registering for this event\, you agree to have your email shared with attendees.)</span></span></span><br />\n<br />\n<span style="color:#FFF0F5\;"><em><strong style="color: rgb(39\, 50\, 56)\; font-family: arial\, sans-serif\; font-size: 16px\;"><span style="background-color:#FFFF00\;">SPONSORSHIP OPPORTUNITIES AVAILABLE:</span></strong></em></span><br />\n<font face="arial\, sans-serif"><span style="font-size: 16px\;">Looking to promote your business and grow your connections? We have sponsorship opportunities available. <a href="https://chambermaster.blob.core.windows.net/userfiles/UserFiles/chambers/2843/File/BusinessExchange2021MonthySponsor.pdf">Click here for more details.</a></span></font><br />\n<br />\n<span style="color:#333333\;"><span style="font-family:arial\,sans-serif\;"><span style="font-size:12.0pt\;">We strive to host inclusive and accessible events that enable all individuals to engage fully. For event assistance or any additional information\, please contact:</span></span></span></p>\n<span style="font-family:arial\;"><span style="font-size:16px\;"><b>Terri Smith</b><br />\nPhone: 563.823.2694<br />\nEmail: tsmith<a href="mailto:mhyder@quadcitieschamber.com">@quadcitieschamber.com</a></span></span>
LOCATION:Virtual Event | Join via Zoom Meetings.
UID:e.2843.18377
SEQUENCE:3
DTSTAMP:20260421T031257Z
URL:https://member.quadcitieschamber.com/events/details/virtual-event-business-exchange-18377
END:VEVENT

END:VCALENDAR
