BEGIN:VCALENDAR
VERSION:2.0
PRODID:-//ChamberMaster//Event Calendar 2.0//EN
METHOD:PUBLISH
X-PUBLISHED-TTL:P3D
REFRESH-INTERVAL:P3D
CALSCALE:GREGORIAN
BEGIN:VEVENT
DTSTART:20200825T160000Z
DTEND:20200825T170000Z
X-MICROSOFT-CDO-ALLDAYEVENT:FALSE
SUMMARY:Virtual Event | Business Exchange Networking
DESCRIPTION:Virtual Event | Business Exchange Networking\n\nTuesday\, August 25 | 11 a.m. - 12 p.m.\n\n\n\nThis event will now be held virtually with an 11 a.m. start time.\n\n\n\nAre you finding it's harder than ever to make new sales contacts and meet your sales development goals? Are you looking to grow your business connections? Business Exchange is the perfect opportunity to make connections to grow your business. \n\n\n\nThis members-only virtual networking event will be facilitated by Rick Davis\, who will share tips and strategies on how to become more confident and comfortable networking in any environment. The program will feature a series of virtual breakout rooms\, allowing you to connect with other Chamber members in small groups.\n\n\n\nWhat to expect:\n\n\n	This virtual networking event will be held on Zoom\n\n\n\n	Guests will be placed in virtual breakout rooms of 4 or 5\n\n\n\n	First round (20 minutes) - each person will introduce themselves\, then discuss a topic \n\n\n\n	Second round (20 minutes) - switch to a new virtual room\, meet new people and repeat\n\n\nRegister by 9:00 am on Tuesday\, August 25. Maximum capacity for this event is 100. We will maintain a waiting list for registrations exceeding this amount.\n\n\n\nZOOM MEETING LINK: You will receive an email with the Zoom meeting link along with the guest list of registered attendees after 9:00 am on Tuesday\, August 25. To ensure your best experience you should have access to video. This program is not compatible with chrome books.\n\n\n\nAfter the event\, you'll receive a full contact list of all attendees\, including email. (By registering for this event\, you agree to have your email shared with attendees.)\n\n\n\nThis event is only open to members of the Quad Cities Chamber. \n\n\n\nWe strive to host inclusive and accessible events that enable all individuals to engage fully. For event assistance or any additional information\, please contact:\n\n\n\nTerri Smith |  tsmith@quadcitieschamber.com | 563.823.2694\n\n\n\nCancellation Policy:\n\nCancellations must be received at least 72 hours in advance in order to receive a registration refund. You may transfer your registration to another person within your company at no additional cost.
X-ALT-DESC;FMTTYPE=text/html:<p style="color: rgb(51\, 51\, 51)\; font-family: sans-serif\, Arial\, Verdana\, &quot\;Trebuchet MS&quot\;\; font-size: 13px\;"><span style="font-size: 16px\;"><span style="font-size: 18px\;"><strong><span style="color: rgb(39\, 50\, 56)\;"><span style="font-family: arial\, sans-serif\;">Virtual Event | Business Exchange Networking<br />\nTuesday\, August&nbsp\;25&nbsp\;| 11 a.m. - 12 p.m.</span></span></strong></span><br />\n<br />\n<span style="color: rgb(39\, 50\, 56)\;"><span style="font-family: arial\, sans-serif\;"><strong><span style="font-size: 18px\;">This event will now be held virtually with an 11 a.m. start time.</span></strong></span></span><br />\n<br />\n<span style="color: rgb(39\, 50\, 56)\;"><span style="font-family: arial\, sans-serif\;">Are you finding it&#39\;s harder than ever to make new sales contacts and meet your sales development goals? Are you looking to grow your business connections? Business Exchange is the perfect opportunity to make connections to grow your business.&nbsp\;</span></span><br />\n<br />\n<span style="color: rgb(45\, 41\, 38)\;"><span style="font-family: arial\, sans-serif\;">This members-only virtual networking event will be facilitated by Rick Davis\, who will&nbsp\;</span></span><span style="color: rgb(39\, 50\, 56)\;"><span style="font-family: arial\, sans-serif\;">share tips and strategies on how to become more confident and comfortable networking in any environment. The program will feature a series of virtual breakout rooms\, allowing you to connect with other Chamber members in small groups.</span></span><br />\n<br />\n<strong><span style="color: rgb(39\, 50\, 56)\;"><span style="font-family: arial\, sans-serif\;">What to expect:</span></span></strong></span></p>\n\n<ul style="padding: 0px 40px\; color: rgb(51\, 51\, 51)\; font-family: sans-serif\, Arial\, Verdana\, &quot\;Trebuchet MS&quot\;\; font-size: 13px\;">\n	<li style="color: rgb(39\, 50\, 56)\; margin-bottom: 0.0001pt\; line-height: normal\; background-image: initial\; background-position: initial\; background-size: initial\; background-repeat: initial\; background-attachment: initial\; background-origin: initial\; background-clip: initial\;"><span style="font-size: 16px\;"><span style="font-family: arial\, sans-serif\;">This virtual networking event will be held on Zoom</span></span></li>\n</ul>\n\n<ul style="padding: 0px 40px\; color: rgb(51\, 51\, 51)\; font-family: sans-serif\, Arial\, Verdana\, &quot\;Trebuchet MS&quot\;\; font-size: 13px\;">\n	<li style="color: rgb(39\, 50\, 56)\; margin-bottom: 0.0001pt\; line-height: normal\; background-image: initial\; background-position: initial\; background-size: initial\; background-repeat: initial\; background-attachment: initial\; background-origin: initial\; background-clip: initial\;"><span style="font-size: 16px\;"><span style="font-family: arial\, sans-serif\;">Guests will be placed in virtual&nbsp\;breakout rooms of 4 or 5</span></span></li>\n</ul>\n\n<ul style="padding: 0px 40px\; color: rgb(51\, 51\, 51)\; font-family: sans-serif\, Arial\, Verdana\, &quot\;Trebuchet MS&quot\;\; font-size: 13px\;">\n	<li style="color: rgb(39\, 50\, 56)\; margin-bottom: 0.0001pt\; line-height: normal\; background-image: initial\; background-position: initial\; background-size: initial\; background-repeat: initial\; background-attachment: initial\; background-origin: initial\; background-clip: initial\;"><span style="font-size: 16px\;"><span style="font-family: arial\, sans-serif\;">First round (20&nbsp\;minutes) - each person will introduce themselves\, then discuss a topic&nbsp\;</span></span></li>\n</ul>\n\n<ul style="padding: 0px 40px\; color: rgb(51\, 51\, 51)\; font-family: sans-serif\, Arial\, Verdana\, &quot\;Trebuchet MS&quot\;\; font-size: 13px\;">\n	<li style="color: rgb(39\, 50\, 56)\; margin-bottom: 0.0001pt\; line-height: normal\; background-image: initial\; background-position: initial\; background-size: initial\; background-repeat: initial\; background-attachment: initial\; background-origin: initial\; background-clip: initial\;"><span style="font-size: 16px\;"><span style="font-family: arial\, sans-serif\;">Second round (20&nbsp\;minutes) - switch to a new virtual&nbsp\;room\, meet new people and repeat</span></span></li>\n</ul>\n\n<p style="color: rgb(51\, 51\, 51)\; font-family: sans-serif\, Arial\, Verdana\, &quot\;Trebuchet MS&quot\;\; font-size: 13px\;"><span style="font-size: 16px\;"><strong><span style="color: rgb(39\, 50\, 56)\;"><span style="font-family: arial\, sans-serif\;">Register by 9:00 am&nbsp\;on Tuesday\, August&nbsp\;25. Maximum capacity for this event is 100. We will maintain a waiting list for registrations exceeding this amount.</span></span></strong><br />\n<br />\n<strong><span style="color: rgb(39\, 50\, 56)\;"><span style="font-family: arial\, sans-serif\;">ZOOM MEETING LINK:</span></span></strong><span style="color: rgb(39\, 50\, 56)\;"><span style="font-family: arial\, sans-serif\;">&nbsp\;You will receive an email with the&nbsp\;<strong>Zoom meeting link</strong>&nbsp\;along with the guest list of registered attendees after 9:00 am on Tuesday\, August 25. To ensure your best experience you should have access to video. This program is not compatible with chrome books.</span></span><br />\n<br />\n<span style="background-image: initial\; background-position: initial\; background-size: initial\; background-repeat: initial\; background-attachment: initial\; background-origin: initial\; background-clip: initial\;"><span style="color: rgb(39\, 50\, 56)\;"><span style="font-family: arial\, sans-serif\;">After the event\, you&#39\;ll receive a full contact list of all attendees\, including email. (By registering for this event\, you agree to have your email shared with attendees.)<br />\n<br />\nThis event is only open to members of the Quad Cities Chamber.&nbsp\;</span></span></span><br />\n<br />\n<span style="background-image: initial\; background-position: initial\; background-size: initial\; background-repeat: initial\; background-attachment: initial\; background-origin: initial\; background-clip: initial\;"><span style="color: rgb(39\, 50\, 56)\;"><span style="font-family: arial\, sans-serif\;">We strive to host inclusive and accessible events that enable all individuals to engage fully.&nbsp\;For event assistance or any additional information\, please contact:</span></span></span><br />\n<br />\n<span style="background-image: initial\; background-position: initial\; background-size: initial\; background-repeat: initial\; background-attachment: initial\; background-origin: initial\; background-clip: initial\;"><span style="color: rgb(39\, 50\, 56)\;"><span style="font-family: arial\, sans-serif\;">Terri Smith |&nbsp\;&nbsp\;</span></span></span><span style="font-family: calibri\, sans-serif\;"><span style="background-image: initial\; background-position: initial\; background-size: initial\; background-repeat: initial\; background-attachment: initial\; background-origin: initial\; background-clip: initial\;"><span style="font-family: arial\, sans-serif\;"><a href="mailto:tsmith@quadcitieschamber.com" style="color: rgb(7\, 130\, 193)\;">tsmith@quadcitieschamber.com</a>&nbsp\;|&nbsp\;</span></span></span></span><span style="color: rgb(39\, 50\, 56)\; font-family: arial\, sans-serif\; font-size: 16px\;">563.823.2694</span><br />\n<br />\n<u style="box-sizing: border-box\; color: rgb(39\, 50\, 56)\; font-size: 16px\; font-family: arial\;">Cancellation&nbsp\;Policy:</u><br style="box-sizing: border-box\; color: rgb(39\, 50\, 56)\; font-size: 16px\; font-family: Arial\;" />\n<span style="box-sizing: border-box\; outline: 0px\; color: rgb(39\, 50\, 56)\; font-size: 16px\; font-family: arial\;">Cancellations&nbsp\;must be received at least 72 hours in advance in order to receive a registration refund. You may transfer your registration to another person within your company at no additional cost.</span></p>\n<br />\n<br />\n<br />\n<br />\n<br />\n<br />\n&nbsp\;
LOCATION:Zoom Meeting | Register to receive meeting link
UID:e.2843.17903
SEQUENCE:3
DTSTAMP:20260421T140739Z
URL:https://member.quadcitieschamber.com/events/details/virtual-event-business-exchange-networking-17903
END:VEVENT

END:VCALENDAR
