BEGIN:VCALENDAR
VERSION:2.0
PRODID:-//ChamberMaster//Event Calendar 2.0//EN
METHOD:PUBLISH
X-PUBLISHED-TTL:P3D
REFRESH-INTERVAL:P3D
CALSCALE:GREGORIAN
BEGIN:VEVENT
DTSTART:20200827T120000Z
DTEND:20200827T130000Z
X-MICROSOFT-CDO-ALLDAYEVENT:FALSE
SUMMARY:Virtual Event | Rise and Shine QC: Sales Edition - How to Actually Break Through the Noise\, featuring Jill Wilson
DESCRIPTION:Virtual Event | Rise and Shine QC: Sales Edition - How to ACTUALLY Break Through the Noise\, featuring Jill Wilson\n\n\n\nThursday\, August 27 | 7   8 a.m.\n\nZoom Meeting | Advanced Registration Required\n\n$10 Members | $25 Non-Members \n\n \n***Ideal for B2B owners and business development professionals***\n\n \n\nOver the past several months\, sales pros have been instructed to change up their outreach approach to "break through the noise". Which is great advice\, but has too often been an empty soundbite without any practical tips for how that outreach should sound\, or what those cold emails could look like. \n\n \n\nThis session will focus on how to improve your cold outreach with tips for messaging and personalization\, and tools that will help you do that work faster. See you there!\n\n\n\nAdvanced registration is required. You will receive the Zoom meeting link and information on joining the meeting on the afternoon of Wednesday\, August 26.         \n\n\n\nFor event assistance or any additional information please contact:\nTerri Smith\n\nPhone: (563) 823-2694\n\nEmail: tsmith@quadcitieschamber.com\n\n\n\nCancellation Policy:\n\nCancellations must be received at least 72 hours in advance in order to receive a registration refund. You may transfer your registration to another person within your company at no additional cost.
X-ALT-DESC;FMTTYPE=text/html:<span style="font-size:18px\;"><strong><span style="font-family:arial\,sans-serif\;">Virtual Event | Rise and Shine QC: Sales Edition - How to <em>ACTUALLY </em>Break Through the Noise\, featuring Jill Wilson</span></strong><br />\n<br />\n<strong><span style="font-family:arial\,sans-serif\;">Thursday\, August 27 |&nbsp\;7 &ndash\; 8 a.m.<br />\nZoom Meeting | Advanced Registration Required</span></strong><br />\n<span style="color:#273238\;"><span style="font-family:arial\,sans-serif\;"><strong><span style="background:white\;">$10 Members | $25 Non-Members&nbsp\;</span></strong></span></span></span><br />\n&nbsp\;\n<p font-size:="" open="" style="box-sizing: border-box\; margin: 0px 0px 10px\; color: rgb(73\, 73\, 73)\; font-family: "><span style="font-size:18px\;"><span style="font-family:arial\,sans-serif\;">***Ideal for B2B owners and business development professionals***</span><br />\n&nbsp\;</span><br />\n<span style="font-size:18px\;"><span style="font-family:arial\;"><span style="color:black\;">Over the past several months\, sales pros have been instructed to change up their outreach approach to &ldquo\;break through the noise&rdquo\;. Which is great advice\, but has too often been an empty soundbite without any practical tips for how that outreach should sound\, or what those cold emails could look like.&nbsp\;</span><br />\n&nbsp\;<br />\n<span style="color:black\;">This session will focus on how to improve your cold outreach with tips for messaging and personalization\, and tools that will help you do that work faster. See you there!</span></span></span><br />\n<br />\n<span style="box-sizing: border-box\; color: rgb(73\, 73\, 73)\; font-family: arial\; font-size: 18px\;">Advanced registration is required.&nbsp\;</span><span style="box-sizing: border-box\; color: rgb(39\, 50\, 56)\; font-family: arial\; font-size: 18px\;">You will receive the&nbsp\;<span style="box-sizing: border-box\; font-weight: bolder\;">Zoom meeting link</span>&nbsp\;and information on joining the meeting on the afternoon of&nbsp\;<span style="box-sizing: border-box\; font-weight: bolder\;">Wednesday\, August 26</span>.</span><span style="color: rgb(39\, 50\, 56)\; font-family: Arial\, sans-serif\; font-size: 16px\;">&nbsp\;</span><span style="font-size:18px\;">&nbsp\; &nbsp\; &nbsp\; &nbsp\;&nbsp\;</span><br />\n<br />\n<span style="font-family: arial\; font-size: 16px\; color: rgb(51\, 51\, 51)\;">For event assistance or any additional information please contact:</span></p>\n<span style="font-size:16px\;"><span style="font-family:arial\;"><b>Terri Smith</b><br />\nPhone: (563) 823-2694<br />\nEmail: tsmith@quadcitieschamber.com</span></span><br />\n<br />\n<u style="color: rgb(51\, 51\, 51)\; font-family: arial\; font-size: 16px\; background-color: rgb(255\, 255\, 255)\;">Cancellation&nbsp\;Policy:</u><br style="color: rgb(51\, 51\, 51)\; font-size: 16px\; background-color: rgb(255\, 255\, 255)\; font-family: Arial\;" />\n<span style="color: rgb(51\, 51\, 51)\; font-family: arial\; font-size: 16px\; background-color: rgb(255\, 255\, 255)\;">Cancellations&nbsp\;must be received at least 72 hours in advance in order to receive a registration refund. You may transfer your registration to another person within your company at no additional cost.</span>\n\n<div>&nbsp\;</div>\n
LOCATION:Join via Zoom Meetings Advance Registration required.
UID:e.2843.17901
SEQUENCE:3
DTSTAMP:20260421T142257Z
URL:https://member.quadcitieschamber.com/events/details/virtual-event-rise-and-shine-qc-sales-edition-how-to-actually-break-through-the-noise-featuring-jill-wilson-17901
END:VEVENT

END:VCALENDAR
