BEGIN:VCALENDAR
VERSION:2.0
PRODID:-//ChamberMaster//Event Calendar 2.0//EN
METHOD:PUBLISH
X-PUBLISHED-TTL:P3D
REFRESH-INTERVAL:P3D
CALSCALE:GREGORIAN
BEGIN:VEVENT
DTSTART:20200806T120000Z
DTEND:20200806T130000Z
X-MICROSOFT-CDO-ALLDAYEVENT:FALSE
SUMMARY:Virtual Event | Rise and Shine QC: Sales Edition - Strategies for Retaining and Growing Clients
DESCRIPTION:Virtual Event | Rise and Shine QC: Sales Edition - Strategies for Retaining and Growing Clients\n\n\n\nThursday\, August 6 | 7   8 a.m.\n\nZoom Meeting | Advanced Registration Required\n\n$10 Members | $25 Non-Members \n\n*Purchase the 4 meeting series for $30 prepaid | Chamber member only special offer!\n\n \n***Ideal for B2B owners and business development professionals***\n\n \n\nHave your sales and productivity been off since the onset of COVID-19? Jumpstart Q3 by joining us for business development tips\, best practices and networking   all in a fast-paced\, 60-minute session each week! Led by great speakers and trainers\, these high-energy\, high-impact sessions will have you using new techniques on your very next call! Come prepared with your 30-second pitch about your business and get the day started right!\n\n \n\nEvent Topics:\n\n\n	Thursday\, August 6 | Strategies for Retaining and Growing Clients\n	Thursday\, August 13 | Empathetic Listening\n	Thursday\, August 20 | Your Level of Commitment to your Business\n	Thursday\, August 27 | Surprise Topic!\n\n\n\nRegistration Fees:\n\n\n	$10 Chamber members/$25 non-members\n	Save 25% by signing up for the 4 meeting series at once - $30 pre-paid (members-only package special offer)\n\n\n\n\n Advanced registration is required. You will receive the Zoom meeting link and information on joining the meeting on the afternoon of Wednesday\, August 5.\n\n\n\nFor event assistance or any additional information please contact:\n Terri Smith\n\nPhone: (563) 823-2694\n\nEmail: tsmith@quadcitieschamber.com\n\n\n\nCancellation Policy:\n\nCancellations must be received at least 72 hours in advance in order to receive a registration refund. You may transfer your registration to another person within your company at no additional cost.
X-ALT-DESC;FMTTYPE=text/html:<span style="font-family:arial\;"><span style="font-size:18px\;"><span style="font-size:20px\;"><strong>Virtual Event | Rise and Shine QC: Sales Edition -&nbsp\;Strategies for Retaining and Growing Clients</strong></span><br />\n<br />\n<span style="font-size:20px\;"><strong>Thursday\, August 6 |&nbsp\;7 &ndash\; 8 a.m.<br />\nZoom Meeting | Advanced Registration Required</strong><br />\n<span style="color:#273238\;"><strong><span style="background:white\;">$10 Members | $25 Non-Members&nbsp\;<br />\n*Purchase the 4 meeting series for $30 prepaid | Chamber member only special offer!</span></strong></span></span></span></span><br />\n&nbsp\;\n<p font-size:="" open="" style="box-sizing: border-box\; margin: 0px 0px 10px\; color: rgb(73\, 73\, 73)\; font-family: "><span style="font-size:18px\;"><span style="font-family:arial\;">***Ideal for B2B owners and business development professionals***<br />\n&nbsp\;<br />\nHave your sales and productivity been off since the onset of COVID-19?&nbsp\;Jumpstart Q3 by joining us for business development tips\, best practices and networking &ndash\; all in a fast-paced\, 60-minute session each week!&nbsp\;Led by great speakers and trainers\, these high-energy\, high-impact sessions will have you using new techniques on your very next call!&nbsp\;Come prepared with your 30-second pitch about your business and get the day started right!<br />\n&nbsp\;<br />\n<strong>Event Topics:</strong></span></span></p>\n\n<ul>\n	<li><span style="font-size:18px\;"><span style="font-family:arial\;">Thursday\, August 6 | Strategies for Retaining and Growing Clients</span></span></li>\n	<li><span style="font-size:18px\;"><span style="font-family:arial\;">Thursday\, August 13 |&nbsp\;Empathetic Listening</span></span></li>\n	<li><span style="font-size:18px\;"><span style="font-family:arial\;">Thursday\, August 20 |&nbsp\;Your Level of Commitment to your Business</span></span></li>\n	<li><span style="font-size:18px\;"><span style="font-family:arial\;">Thursday\, August 27 | </span></span><span style="font-family: arial\, sans-serif\; font-size: 18px\;">Surprise Topic</span><span style="font-family: arial\, sans-serif\; font-size: 18px\;">!</span></li>\n</ul>\n<br />\n<span style="font-size:18px\;"><span style="font-family:arial\;"><strong>Registration Fees:</strong></span></span>\n\n<ul>\n	<li><span style="font-size:18px\;"><span style="font-family:arial\;">$10 Chamber members/$25 non-members</span></span></li>\n	<li><span style="font-size:18px\;"><span style="font-family:arial\;"><strong>Save 25%</strong> by signing up for the 4 meeting series at once - $30 pre-paid (members-only package special offer)</span></span></li>\n</ul>\n\n<p font-size:="" open="" style="box-sizing: border-box\; margin: 0px 0px 10px\; color: rgb(73\, 73\, 73)\; font-family: "><br />\n<span style="font-family:arial\;"><span style="font-size:18px\;">&nbsp\;Advanced registration is required.&nbsp\;<span style="color: rgb(39\, 50\, 56)\; box-sizing: border-box\;">You will receive the&nbsp\;<strong>Zoom meeting link</strong>&nbsp\;and information on joining the meeting on the afternoon of&nbsp\;<strong>Wednesday\, August 5</strong>.</span></span><br style="color: rgb(39\, 50\, 56)\; font-family: arial\; font-size: 16px\;" />\n<br />\n<span style="font-size: 16px\; color: rgb(51\, 51\, 51)\;">For event assistance or any additional information please contact:</span></span></p>\n<span style="font-family:arial\;"> <span style="font-size:16px\;"><b>Terri Smith</b><br />\nPhone: (563) 823-2694<br />\nEmail: tsmith@quadcitieschamber.com</span></span><br />\n<br />\n<u style="color: rgb(51\, 51\, 51)\; font-family: arial\; font-size: 16px\; background-color: rgb(255\, 255\, 255)\;">Cancellation&nbsp\;Policy:</u><br style="color: rgb(51\, 51\, 51)\; font-size: 16px\; background-color: rgb(255\, 255\, 255)\; font-family: Arial\;" />\n<span style="color: rgb(51\, 51\, 51)\; font-family: arial\; font-size: 16px\; background-color: rgb(255\, 255\, 255)\;">Cancellations&nbsp\;must be received at least 72 hours in advance in order to receive a registration refund. You may transfer your registration to another person within your company at no additional cost.</span>\n\n<div>&nbsp\;</div>\n
LOCATION:Join via Zoom Meetings Advance Registration required.
UID:e.2843.17898
SEQUENCE:3
DTSTAMP:20260421T142206Z
URL:https://member.quadcitieschamber.com/events/details/virtual-event-rise-and-shine-qc-sales-edition-strategies-for-retaining-and-growing-clients-17898
END:VEVENT

END:VCALENDAR
