BEGIN:VCALENDAR
VERSION:2.0
PRODID:-//ChamberMaster//Event Calendar 2.0//EN
METHOD:PUBLISH
X-PUBLISHED-TTL:P3D
REFRESH-INTERVAL:P3D
CALSCALE:GREGORIAN
BEGIN:VEVENT
DTSTART:20200820T120000Z
DTEND:20200820T130000Z
X-MICROSOFT-CDO-ALLDAYEVENT:FALSE
SUMMARY:Virtual Event | Rise and Shine QC: Sales Edition - Your Level of Commitment to your Business
DESCRIPTION:Virtual Event | Rise and Shine QC: Sales Edition - Your Level of Commitment to your Business\n\nThursday\, August 20 | 7 - 8 a.m.\n\nZoom Meeting | Advanced Registration Required\n\n$10 Members | $25 Non-Members \n\n\n\n \n***Ideal for B2B owners and business development professionals***\n\n \n\nHave your sales and productivity been off since the onset of COVID-19? Jumpstart Q3 by joining us for business development tips\, best practices and networking - all in a fast-paced\, 60-minute session each week! Led by great speakers and trainers\, these high-energy\, high-impact sessions will have you using new techniques on your very next call! Come prepared with your 30-second pitch about your business and get the day started right!\n\n \n\nEvent Topics:\n\n\n	Thursday\, August 20 | Your Level of Commitment to your Business\n	Thursday\, August 27 | Surprise Topic! \n\nAdvanced registration is required. You will receive the Zoom meeting link and information on joining the meeting on the afternoon of Wednesday\, August 19. \n\n\n\nFor event assistance or any additional information please contact:\nTerri Smith\n\nPhone: (563) 823-2694\n\nEmail: tsmith@quadcitieschamber.com\n\n\n\nCancellation Policy:\n\nCancellations must be received at least 72 hours in advance in order to receive a registration refund. You may transfer your registration to another person within your company at no additional cost.
X-ALT-DESC;FMTTYPE=text/html:<span style="font-size:18px\;"><strong><span style="font-family:arial\,sans-serif\;">Virtual Event | Rise and Shine QC: Sales Edition -&nbsp\;Your Level of Commitment to your Business</span></strong><br />\n<strong><span style="font-family:arial\,sans-serif\;">Thursday\, August 20 |&nbsp\;7 - 8 a.m.<br />\nZoom Meeting | Advanced Registration Required</span></strong><br />\n<span style="color:#273238\;"><span style="font-family:arial\,sans-serif\;"><strong><span style="background:white\;">$10 Members | $25 Non-Members&nbsp\;</span></strong></span></span></span><br />\n<br />\n&nbsp\;\n<p font-size:="" open="" style="box-sizing: border-box\; margin: 0px 0px 10px\; color: rgb(73\, 73\, 73)\; font-family: "><span style="font-size:18px\;"><span style="font-family:arial\,sans-serif\;">***Ideal for B2B owners and business development professionals***</span><br />\n&nbsp\;<br />\n<span style="font-family:arial\,sans-serif\;">Have your sales and productivity been off since the onset of COVID-19?&nbsp\;Jumpstart Q3 by joining us for business development tips\, best practices and networking -&nbsp\;all in a fast-paced\, 60-minute session each week!&nbsp\;Led by great speakers and trainers\, these high-energy\, high-impact sessions will have you using new techniques on your very next call!&nbsp\;Come prepared with your 30-second pitch about your business and get the day started right!</span><br />\n&nbsp\;<br />\n<strong><span style="font-family:arial\,sans-serif\;">Event Topics:</span></strong></span></p>\n\n<ul>\n	<li><span style="font-family: arial\, sans-serif\; font-size: 18px\;">Thursday\, August&nbsp\;20 |&nbsp\;Your Level of Commitment to your Business</span></li>\n	<li><span style="font-size:18px\;"><span style="font-family:arial\,sans-serif\;">Thursday\, August&nbsp\;27 |&nbsp\;Surprise Topic!</span></span><span style="font-size:18px\;">&nbsp\;</span></li>\n</ul>\n<span style="color: rgb(73\, 73\, 73)\; font-family: arial\; font-size: 18px\;">Advanced registration is required.&nbsp\;</span><span style="box-sizing: border-box\; font-family: arial\; font-size: 18px\; color: rgb(39\, 50\, 56)\;">You will receive the&nbsp\;<span style="box-sizing: border-box\; font-weight: bolder\;">Zoom meeting link</span>&nbsp\;and information on joining the meeting on the afternoon of&nbsp\;<span style="box-sizing: border-box\; font-weight: bolder\;">Wednesday\, August 19</span>.</span>&nbsp\;\n\n<p font-size:="" open="" style="box-sizing: border-box\; margin: 0px 0px 10px\; color: rgb(73\, 73\, 73)\; font-family: "><br />\n<span style="font-family: arial\; font-size: 16px\; color: rgb(51\, 51\, 51)\;">For event assistance or any additional information please contact:</span></p>\n<span style="font-size:16px\;"><span style="font-family:arial\;"><b>Terri Smith</b><br />\nPhone: (563) 823-2694<br />\nEmail: tsmith@quadcitieschamber.com</span></span><br />\n<br />\n<u style="color: rgb(51\, 51\, 51)\; font-family: arial\; font-size: 16px\; background-color: rgb(255\, 255\, 255)\;">Cancellation&nbsp\;Policy:</u><br style="color: rgb(51\, 51\, 51)\; font-size: 16px\; background-color: rgb(255\, 255\, 255)\; font-family: Arial\;" />\n<span style="color: rgb(51\, 51\, 51)\; font-family: arial\; font-size: 16px\; background-color: rgb(255\, 255\, 255)\;">Cancellations&nbsp\;must be received at least 72 hours in advance in order to receive a registration refund. You may transfer your registration to another person within your company at no additional cost.</span><br />\n&nbsp\;\n<div>&nbsp\;</div>\n
LOCATION:Join via Zoom Meetings Advance Registration required.
UID:e.2843.17900
SEQUENCE:3
DTSTAMP:20260421T142206Z
URL:https://member.quadcitieschamber.com/events/details/virtual-event-rise-and-shine-qc-sales-edition-your-level-of-commitment-to-your-business-17900
END:VEVENT

END:VCALENDAR
