BEGIN:VCALENDAR
VERSION:2.0
PRODID:-//ChamberMaster//Event Calendar 2.0//EN
METHOD:PUBLISH
X-PUBLISHED-TTL:P3D
REFRESH-INTERVAL:P3D
CALSCALE:GREGORIAN
BEGIN:VEVENT
DTSTART:20201017T230000Z
DTEND:20201018T010000Z
X-MICROSOFT-CDO-ALLDAYEVENT:FALSE
SUMMARY:Virtual Mad Scientist Ball benefiting the Putnam Museum
DESCRIPTION:Join us for an electrifying night to raise awareness and funds for the Putnam Museum and Science Center! Mad Scientist Ball is back this year at the Putnam to raise the necessary funds for the support of our programs\, services and collections such as summer camps\, rotating and permanent exhibits\, and virtual learning. This virtual event includes an interactive science experiment\, instruction from a mixologist on crafting a delicious signature cocktail\, as well as a Q&A session from MIT Aerospace Engineer\, and Emmy-Nominated TV host\, Emily Calandrelli! Visit: http://www.putnam.org/Calendar/Virtual-Mad-Scientist-Ball for more information and to purchase your ticket.
X-ALT-DESC;FMTTYPE=text/html:Join us for an electrifying night to raise awareness and funds for the Putnam Museum and Science Center! Mad Scientist Ball is back this year at the Putnam to raise the necessary funds for the support of our programs\, services and collections such as summer camps\, rotating and permanent exhibits\, and virtual learning. This virtual event includes an interactive science experiment\, instruction from a mixologist on crafting a delicious signature cocktail\, as well as a Q&amp\;A session from MIT Aerospace Engineer\, and Emmy-Nominated TV host\, Emily Calandrelli! Visit: http://www.putnam.org/Calendar/Virtual-Mad-Scientist-Ball for more information and to purchase your ticket.
LOCATION:Zoom
UID:e.2843.18047
SEQUENCE:3
DTSTAMP:20260421T111538Z
URL:https://member.quadcitieschamber.com/events/details/virtual-mad-scientist-ball-benefiting-the-putnam-museum-18047
END:VEVENT

END:VCALENDAR
