BEGIN:VCALENDAR
VERSION:2.0
PRODID:-//ChamberMaster//Event Calendar 2.0//EN
METHOD:PUBLISH
X-PUBLISHED-TTL:P3D
REFRESH-INTERVAL:P3D
CALSCALE:GREGORIAN
BEGIN:VEVENT
DTSTART:20200908T140000Z
DTEND:20200908T160000Z
X-MICROSOFT-CDO-ALLDAYEVENT:FALSE
SUMMARY:Virtual: Manufacturing Leaders Round Table
DESCRIPTION:Created for business education and networking within the manufacturing industry\, our Midwest Manufacturing Business Coalition (MMBC) Round Table Discussions connect manufacturing leaders from across the Midwest. Join us in September for a virtual discussion about:\n\nAccounting and tax implications of COVID-19 in the manufacturing industry\n\n\n\nFacilitated by Kevin Schmitt\, VP Honkamp Krueger\n\n$30 per person\n\nThis discussion is open to area manufacturers and their suppliers.\n\nRegister today!
X-ALT-DESC;FMTTYPE=text/html:<p style="text-align:center">Created for business education and networking within the manufacturing industry\, our Midwest Manufacturing Business Coalition (MMBC)&nbsp\;Round&nbsp\;Table Discussions&nbsp\;connect manufacturing leaders from across the Midwest. Join us in September for a virtual discussion about:</p>\n\n<p style="text-align:center"><span style="font-size:16px"><strong><em>Accounting and tax implications of COVID-19 in the manufacturing industry</em></strong></span><br />\n<br />\n<strong>Facilitated by Kevin Schmitt\, VP&nbsp\;<span style="font-size:14px">Honkamp Krueger</span></strong></p>\n\n<p style="text-align:center">$30 per person</p>\n\n<p style="text-align:center"><strong>This discussion is open to area manufacturers and their suppliers.</strong></p>\n\n<p style="text-align:center"><a href="https://epay.sau.edu/C21430_ustores/web/product_detail.jsp?PRODUCTID=1549">Register today!</a></p>\n
LOCATION:Virtual - Zoom link to be shared prior to the event. St. Ambrose University Professional Development Center Virtual Meeting - link provided upon registration
UID:e.2843.17878
SEQUENCE:3
DTSTAMP:20260421T124419Z
URL:https://member.quadcitieschamber.com/events/details/virtual-manufacturing-leaders-round-table-17878
END:VEVENT

END:VCALENDAR
