BEGIN:VCALENDAR
VERSION:2.0
PRODID:-//ChamberMaster//Event Calendar 2.0//EN
METHOD:PUBLISH
X-PUBLISHED-TTL:P3D
REFRESH-INTERVAL:P3D
CALSCALE:GREGORIAN
BEGIN:VEVENT
DTSTART;VALUE=DATE:20210106
DTEND;VALUE=DATE:20210107
TRANSP:TRANSPARENT
X-MICROSOFT-CDO-ALLDAYEVENT:TRUE
SUMMARY:Virtual - Project Management Certificate Program
DESCRIPTION:Our project management curriculum is designed to provide a scalable project management system for managing projects of all shapes and sizes. The certificate includes elements such as project initiation\, scope\, management of stakeholders\, quality\, resources\, risk\, schedule\, cost\, negotiations\, communication\, leadership and conflict. Cohort meets virtually (synchronously) on Wednesdays from 5:30 pm - 9:00 pm. 2021 - Jan. 6\, 13\, 20\, 27\; Feb. 3\, 10\, 17\, 24. Includes course materials and 35 PDUs.
X-ALT-DESC;FMTTYPE=text/html:<span style="background-color:rgb(248\, 248\, 248)\; font-family:-apple-system\,blinkmacsystemfont\,segoe ui\,roboto\,helvetica neue\,arial\,sans-serif\; font-size:16px">Our project management curriculum is designed to provide a scalable project management system for managing projects of all shapes and sizes. The certificate includes elements such as project initiation\, scope\, management of stakeholders\, quality\, resources\, risk\, schedule\, cost\, negotiations\, communication\, leadership and conflict. Cohort meets virtually (synchronously) on Wednesdays from 5:30 pm - 9:00 pm. 2021 - Jan. 6\, 13\, 20\, 27\; Feb. 3\, 10\, 17\, 24. Includes course materials and 35 PDUs.</span>
LOCATION:Online.
UID:e.2843.18359
SEQUENCE:3
DTSTAMP:20260421T062354Z
URL:https://member.quadcitieschamber.com/events/details/virtual-project-management-certificate-program-18359
END:VEVENT

END:VCALENDAR
