BEGIN:VCALENDAR
VERSION:2.0
PRODID:-//ChamberMaster//Event Calendar 2.0//EN
METHOD:PUBLISH
X-PUBLISHED-TTL:P3D
REFRESH-INTERVAL:P3D
CALSCALE:GREGORIAN
BEGIN:VEVENT
DTSTART:20200930T223000Z
DTEND:20201001T020000Z
X-MICROSOFT-CDO-ALLDAYEVENT:FALSE
SUMMARY:Virtual Project Management Certificate - St. Ambrose University
DESCRIPTION:The St. Ambrose University Center for Professional Development is a certified Project Management Institute  (PMI) Registered Education Provider (R.E.P.). Classes utilize elements of the Project Management Body of Knowledge (PMBOK  Guide) developed by the Project Management Institute  (PMI). Upon completion of the St. Ambrose Project Management Certificate\, our students will obtain the professional development units (PDUs) necessary to sit for the Project Management Professional   (PMP) or Certified Associate in Project Management   (CAPM) exams.\n\n\n\nOur curriculum is designed to provide a scalable project management system for managing projects of all shapes and sizes - regardless of industry. Our PM Certificate program includes elements such as project initiation\, scope\, management of stakeholders\, quality\, resources\, risk\, schedule\, cost\, negotiations\, communication\, leadership and conflict.\n\n\n\nProgram meets virtually\, weekly on Wednesday evenings from 9/30/20-11/18/20. Participants can expect 1-2 hours of independent work each week in addition to class time.
X-ALT-DESC;FMTTYPE=text/html:<span style="color:rgb(29\, 33\, 41)\; font-family:helvetica\,arial\,sans-serif\; font-size:14px">The St. Ambrose University Center for Professional Development is a certified Project Management Institute&reg\; (PMI) Registered Education Provider (R.E.P.). Classes utilize elements of the Project Management Body of Knowledge (PMBOK&reg\; Guide) developed by the Project Management Institute&reg\; (PMI). Upon completion of the St. Ambrose Project Management Certificate\, our students will obtain the professional development units (PDUs) necessary to sit for the Project Management Professional &reg\; (PMP) or Certified Associate in Project Management &reg\; (CAPM) exams.</span><br />\n<br />\n<span style="color:rgb(29\, 33\, 41)\; font-family:helvetica\,arial\,sans-serif\; font-size:14px">Our curriculum is designed to provide a scalable project management system for managing projects of all shapes and sizes - regardless of industry. Our PM Certificate program includes elements such as project initiation\, scope\, management of stakeholders\, quality\, resources\, risk\, schedule\, cost\, negotiations\, communication\, leadership and conflict.<br />\n<br />\nProgram meets virtually\, weekly on Wednesday evenings from 9/30/20-11/18/20. Participants can expect 1-2 hours of independent work each week in addition to class time.</span>
LOCATION:Virtual via Webex
UID:e.2843.17908
SEQUENCE:3
DTSTAMP:20260421T123545Z
URL:https://member.quadcitieschamber.com/events/details/virtual-project-management-certificate-st-ambrose-university-17908
END:VEVENT

END:VCALENDAR
