BEGIN:VCALENDAR
VERSION:2.0
PRODID:-//ChamberMaster//Event Calendar 2.0//EN
METHOD:PUBLISH
X-PUBLISHED-TTL:P3D
REFRESH-INTERVAL:P3D
CALSCALE:GREGORIAN
BEGIN:VEVENT
DTSTART;VALUE=DATE:20200403
DTEND;VALUE=DATE:20200602
TRANSP:TRANSPARENT
X-MICROSOFT-CDO-ALLDAYEVENT:TRUE
SUMMARY:Virtual: Soccer Shots Quad Cities
DESCRIPTION:Soccer Shots Quad Cities is Still Kickin'\n\n\n\nSpring Sports may be cancelled but Soccer Shots delivers in your living room!!\n\n\n\nSoccer Shots is an engaging children's soccer program with a focus on character development. We positively impact children's lives on and off the field through our best-in-class coaching\, communication and curriculum. In the Quad City area\, we have several public programs as well as child center programming.\n\n\n\nDedicated to positively impacting children\, Soccer Shots Quad Cities is also offering a free birthday party package for any area child (2-8) that has had a birthday during the pandemic or had a party cancelled because of it.\n\n###
X-ALT-DESC;FMTTYPE=text/html:Soccer Shots Quad Cities is Still Kickin&rsquo\;<br />\n<br />\nSpring Sports may be cancelled but Soccer Shots delivers in your living room!!<br />\n<br />\nSoccer Shots is an engaging children&rsquo\;s soccer program with a focus on character development. We positively impact children&rsquo\;s lives on and off the field through our best-in-class coaching\, communication and curriculum. In the Quad City area\, we have several public programs as well as child center programming.<br />\n<br />\nDedicated to positively impacting children\, Soccer Shots Quad Cities is also offering a free birthday party package for any area child (2-8) that has had a birthday during the pandemic or had a party cancelled because of it.<br />\n###
LOCATION:In response to the social distancing measures being taken across the country\, we are making adjustments to the way we deliver the Soccer Shots experience. As the safety and well-being of our families is always our highest consideration\, we want to ensure that area children are still able to keep some sense of normalcy throughout these uncertain times. As of March 16\, we suspended all in-person Soccer Shots sessions and started delivering the Soccer Shots spring seasons via an online platform to families in our community while we navigate this uncharted territory together. Soccer Shots On The Go also includes activities and resources for the entire family to continue fun and learning after each Soccer Shots session. The curriculum will be delivered online until we can resume sessions on the real Soccer Island.
UID:e.2843.17817
SEQUENCE:3
DTSTAMP:20260421T171910Z
URL:https://member.quadcitieschamber.com/events/details/virtual-soccer-shots-quad-cities-17817
END:VEVENT

END:VCALENDAR
