BEGIN:VCALENDAR
VERSION:2.0
PRODID:-//ChamberMaster//Event Calendar 2.0//EN
METHOD:PUBLISH
X-PUBLISHED-TTL:P3D
REFRESH-INTERVAL:P3D
CALSCALE:GREGORIAN
BEGIN:VEVENT
DTSTART:20140722T050000Z
DTEND:20140722T050000Z
X-MICROSOFT-CDO-ALLDAYEVENT:FALSE
SUMMARY:Vision Delegate Meeting
DESCRIPTION:Vision Delegate Meeting
X-ALT-DESC;FMTTYPE=text/html:Vision Delegate Meeting
LOCATION:Western Illinois University Quad Cities
UID:e.2843.2036
SEQUENCE:3
DTSTAMP:20260422T122829Z
URL:https://member.quadcitieschamber.com/events/details/vision-delegate-meeting-07-22-2014-2036
END:VEVENT

END:VCALENDAR
