BEGIN:VCALENDAR
VERSION:2.0
PRODID:-//ChamberMaster//Event Calendar 2.0//EN
METHOD:PUBLISH
X-PUBLISHED-TTL:P3D
REFRESH-INTERVAL:P3D
CALSCALE:GREGORIAN
BEGIN:VEVENT
DTSTART:20180908T160000Z
DTEND:20180909T040000Z
X-MICROSOFT-CDO-ALLDAYEVENT:FALSE
SUMMARY:VIVA/LULAC Quad Cities Fiesta - 25th Annual Gala!
DESCRIPTION:This event celebrates the area's vibrant Latino culture while also raising money for college scholarships. VIVA donates 100% of funds raised to local students. This year VIVA assisted with over $50\,000 awarded in 2018 through the LULAC Scholarship Program. The Fiesta celebrates family\, culture\, education and showcases local entertainment. This year nationally known artist DJ Kane will be appearing.
X-ALT-DESC;FMTTYPE=text/html:This event celebrates the area&#39\;s vibrant Latino culture while also raising money for college scholarships. VIVA donates 100% of funds raised to local students. This year VIVA assisted with over $50\,000 awarded in 2018 through the LULAC Scholarship Program. The Fiesta celebrates family\, culture\, education and showcases local entertainment. This year nationally known artist DJ Kane will be appearing.
LOCATION:LeClaire Park\, Davenport\, Iowa
UID:e.2843.13396
SEQUENCE:3
DTSTAMP:20260423T043724Z
URL:https://member.quadcitieschamber.com/events/details/viva-lulac-quad-cities-fiesta-25th-annual-gala-13396
END:VEVENT

END:VCALENDAR
