BEGIN:VCALENDAR
VERSION:2.0
PRODID:-//ChamberMaster//Event Calendar 2.0//EN
METHOD:PUBLISH
X-PUBLISHED-TTL:P3D
REFRESH-INTERVAL:P3D
CALSCALE:GREGORIAN
BEGIN:VEVENT
DTSTART:20180505T150000Z
DTEND:20180505T180000Z
X-MICROSOFT-CDO-ALLDAYEVENT:FALSE
SUMMARY:Volkswagen Car Show!
DESCRIPTION:Join us for a fun filled day of classic Beetles\, Westfalia vans\, kit cars and more! Come and see the history of one of Germany's most iconic car brands right in our parking lot and enjoy a brat from our friends at Jerry's Market!
X-ALT-DESC;FMTTYPE=text/html:Join us for a fun filled day of classic Beetles\, Westfalia vans\, kit cars and more! Come and see the history of one of Germany&#39\;s most iconic car brands right in our parking lot and enjoy a brat from our friends at Jerry&rsquo\;s Market!
LOCATION:German American Heritage Center 712 W. 2nd St\, Davenport IA
UID:e.2843.12144
SEQUENCE:3
DTSTAMP:20260423T104752Z
URL:https://member.quadcitieschamber.com/events/details/volkswagen-car-show-12144
END:VEVENT

END:VCALENDAR
