BEGIN:VCALENDAR
VERSION:2.0
PRODID:-//ChamberMaster//Event Calendar 2.0//EN
METHOD:PUBLISH
X-PUBLISHED-TTL:P3D
REFRESH-INTERVAL:P3D
CALSCALE:GREGORIAN
BEGIN:VEVENT
DTSTART:20110802T050000Z
DTEND:20110802T050000Z
X-MICROSOFT-CDO-ALLDAYEVENT:FALSE
SUMMARY:Volunteer Appreciation
DESCRIPTION:Volunteer Appreciation
X-ALT-DESC;FMTTYPE=text/html:Volunteer Appreciation
LOCATION:1 Hundred West
UID:e.2843.4335
SEQUENCE:3
DTSTAMP:20260422T161719Z
URL:https://member.quadcitieschamber.com/events/details/volunteer-appreciation-08-02-2011-4335
END:VEVENT

END:VCALENDAR
