BEGIN:VCALENDAR
VERSION:2.0
PRODID:-//ChamberMaster//Event Calendar 2.0//EN
METHOD:PUBLISH
X-PUBLISHED-TTL:P3D
REFRESH-INTERVAL:P3D
CALSCALE:GREGORIAN
BEGIN:VEVENT
DTSTART:20171007T150000Z
DTEND:20171007T170000Z
X-MICROSOFT-CDO-ALLDAYEVENT:FALSE
SUMMARY:Walk for Wishes Riverbend
DESCRIPTION:Walk for Wishes is your call to action to help grant wishes to children in Iowa with life-threatening medical conditions. Walk\, run\, or be a virtual walker and share the power of a wish! The Make-A-Wish Foundation is granting a wish in Iowa every other day and now we need your help to ensure that no qualified child is denied this life-affirming opportunity in the future. \n\nRegister at GetMeRegistered.com: https://secure.getmeregistered.com/get_information.php?event_id=127018
X-ALT-DESC;FMTTYPE=text/html:<p><span style="font-size:10px"><span style="font-family:verdana"><big>Walk for Wishes is your call to action to help grant wishes to children in Iowa with life-threatening medical conditions. Walk\, run\, or be a virtual walker and share the power of a wish! The Make-A-Wish Foundation is granting a wish in Iowa every other day and now we need your help to ensure that no qualified child is denied this life-affirming opportunity in the future. </big></span></span></p>\n\n<p>Register at GetMeRegistered.com: <a href="https://secure.getmeregistered.com/get_information.php?event_id=127018"><span style="font-size:medium"><span style="font-family:calibri"><span style="color:rgb(0\, 0\, 255)">https://secure.getmeregistered.com/get_information.php?event_id=127018</span></span></span></a></p>\n
LOCATION:Lindsay Park Yacht Club 902 Mound Street Davenport\, IA 52803
UID:e.2843.6409
SEQUENCE:3
DTSTAMP:20260423T221254Z
URL:https://member.quadcitieschamber.com/events/details/walk-for-wishes-riverbend-6409
END:VEVENT

END:VCALENDAR
