BEGIN:VCALENDAR
VERSION:2.0
PRODID:-//ChamberMaster//Event Calendar 2.0//EN
METHOD:PUBLISH
X-PUBLISHED-TTL:P3D
REFRESH-INTERVAL:P3D
CALSCALE:GREGORIAN
BEGIN:VEVENT
DTSTART:20120823T143000Z
DTEND:20120823T150000Z
X-MICROSOFT-CDO-ALLDAYEVENT:FALSE
SUMMARY:Waste Commission of Scott County Electronic Demanufacturing Facility Open House & Ribbon Cutting
DESCRIPTION:Please help the Waste Commission of Scott County Electronic Demanufacturing Facility celebrate its R2 Certification with an Open House and Ribbon Cutting on Thursday\, August 23rd at 9:30am.  The Open House hours are 9:30am to 11:30am\, with the official ribbon cutting at 9:30am.  The location is 1048 E. 59th Street – north on Brady to 53rd\, right on 53rd\; go ½ mile then left on Carey Ave to dead end/cul-de-sac\; go to 2nd building. This is the first public agency in the world and first in Iowa to receive Responsible Recycling (R2) Certification\, meaning a third party ensures they are properly managing toxic materials and conducting downstream auditing on vendors.  They adhere to strict environmental\, health\, safety and security aspects of electronic recycling as well. For more information\, visit www.wastecom.com
X-ALT-DESC;FMTTYPE=text/html:<DIV style="FONT-FAMILY: Arial"><P style="MARGIN: 0in 0in 0pt" class=MsoNormal><FONT face=Calibri>Please help the Waste Commission of Scott County Electronic Demanufacturing Facility celebrate its R2 Certification with an Open House and Ribbon Cutting on Thursday\, August 23<SUP>rd</SUP> at 9:30am.<SPAN style="mso-spacerun: yes">&nbsp\; </SPAN>The Open House hours are 9:30am to 11:30am\, with the official ribbon cutting at 9:30am.<SPAN style="mso-spacerun: yes">&nbsp\; </SPAN>The location is 1048 E. 59<SUP>th</SUP> Street – north on Brady to 53<SUP>rd</SUP>\, right on 53<SUP>rd</SUP>\; go ½ mile then left on Carey Ave to dead end/cul-de-sac\; go to 2<SUP>nd</SUP> building.</FONT></P><P style="MARGIN: 0in 0in 0pt" class=MsoNormal><?xml:namespace prefix = o ns = "urn:schemas-microsoft-com:office:office" /><o:p><FONT face=Calibri>&nbsp\;</FONT></o:p></P><P style="MARGIN: 0in 0in 0pt" class=MsoNormal><FONT face=Calibri>This is the first public agency in the world and first in Iowa to receive Responsible Recycling (R2) Certification\, meaning a third party ensures they are properly managing toxic materials and conducting downstream auditing on vendors.<SPAN style="mso-spacerun: yes">&nbsp\; </SPAN>They adhere to strict environmental\, health\, safety and security aspects of electronic recycling as well.</FONT></P><P style="MARGIN: 0in 0in 0pt" class=MsoNormal><o:p><FONT face=Calibri>&nbsp\;</FONT></o:p></P><P style="MARGIN: 0in 0in 0pt" class=MsoNormal><FONT face=Calibri>For more information\, visit </FONT><A href="http://www.wastecom.com"><FONT face="Times New Roman">www.wastecom.com</FONT></A><FONT face=Calibri> </FONT></P></DIV>
LOCATION:1048 E. 59th Street\, Davenport\, IA
UID:e.2843.397
SEQUENCE:3
DTSTAMP:20260421T221129Z
URL:https://member.quadcitieschamber.com/events/details/waste-commission-of-scott-county-electronic-demanufacturing-facility-open-house-ribbon-cutting-08-23-2012-397
END:VEVENT

END:VCALENDAR
