BEGIN:VCALENDAR
VERSION:2.0
PRODID:-//ChamberMaster//Event Calendar 2.0//EN
METHOD:PUBLISH
X-PUBLISHED-TTL:P3D
REFRESH-INTERVAL:P3D
CALSCALE:GREGORIAN
BEGIN:VEVENT
DTSTART:20201021T163000Z
DTEND:20201021T180000Z
X-MICROSOFT-CDO-ALLDAYEVENT:FALSE
SUMMARY:Webinar: Accelerating Beyond Challenge
DESCRIPTION:Are you responsible for attracting\, training and retaining the right talent for your business to be successful?\n\n\n\nJoin us for Accelerating Beyond Challenge.\n\n \n\nThis regional\, collaborative lunch and learn session\, Wednesday\, October 21\, that will explore innovative solutions employers can utilize to drive success despite any market disruptions you may have experienced during this turbulent season.
X-ALT-DESC;FMTTYPE=text/html:<span style="color:black"><span style="font-family:arial\,sans-serif"><span style="font-size:12.0pt">Are you responsible for attracting\, training and retaining the right talent for your business to be successful?<br />\n<br />\nJoin us for <strong><a href="https://click.hello.aleragroup.com/?qs=5b3b3a7bbbe6060b8013c6b3c2ac2b7d0873655dbee9abbbcbb44096b3d253695cd8d04b6aa9a4b3f881a64634175e2decd3a4d0caea7715" title="Accelerating Beyond Challenge">Accelerating Beyond Challenge</a></strong>.<br />\n&nbsp\;<br />\nThis regional\, collaborative lunch and learn session\, Wednesday\, October 21\, that will explore innovative solutions employers can utilize to drive success despite any market disruptions you may have experienced during this turbulent season.</span></span></span>
LOCATION:Virtual event at http://cloud.aleragroup.com/acceleratingbeyondchallenge/
UID:e.2843.18192
SEQUENCE:3
DTSTAMP:20260421T105639Z
URL:https://member.quadcitieschamber.com/events/details/webinar-accelerating-beyond-challenge-18192
END:VEVENT

END:VCALENDAR
