BEGIN:VCALENDAR
VERSION:2.0
PRODID:-//ChamberMaster//Event Calendar 2.0//EN
METHOD:PUBLISH
X-PUBLISHED-TTL:P3D
REFRESH-INTERVAL:P3D
CALSCALE:GREGORIAN
BEGIN:VEVENT
DTSTART:20190227T170000Z
DTEND:20190227T180000Z
X-MICROSOFT-CDO-ALLDAYEVENT:FALSE
SUMMARY:Webinar: CIRAS Strategic Marketing Workshop overview
DESCRIPTION:Join this free 1-hour webinar to learn more about the upcoming Strategic Marketing Workshop training sponsored by the Quad Cities Manufacturing Innovation Hub. Presented by trainer Paul Gormley from Iowa State University CIRAS\, the webinar will focus on what interested participants can expect to learn at the upcoming training as well as the importance of generating a strategic marketing plan.  \n\n\n\nThe three-day Strategic Marketing Workshop will be held in April and May.  It is an introduction to the fundamentals of marketing and marketing plan development that will allow manufacturers to diversify their customer base and increase sales.  Workshop attendees will learn the basics of marketing and apply them immediately to develop a strategic marketing plan. The program is a combination of instruction and training along with built-in time for in-depth analysis and practical application of each company's potential for developing a marketing strategy.\n\n\n\nThe Hub is currently seeking interested participants from Dept. of Defense prime or sub-tier suppliers who would be eligible to attend the specialized training at minimal cost as part of the Illinois Defense Industry Adjustment (DIA) Program.\n\n\n\nRegister for "Quad Cities Chamber of Commerce Market Diversification Webinar" at: \n\nhttps://attendee.gotowebinar.com/register/111143430052412931 \n\n\n\nAfter registering\, you will receive a confirmation email containing information about joining the webinar.
X-ALT-DESC;FMTTYPE=text/html:Join this free 1-hour webinar to learn more about the upcoming Strategic Marketing Workshop training sponsored by the Quad Cities Manufacturing Innovation Hub. Presented by trainer Paul Gormley from Iowa State University CIRAS\, the webinar will focus on what interested participants can expect to learn at the upcoming training as well as the importance of generating a strategic marketing plan.&nbsp\;&nbsp\;<br />\n<br />\nThe three-day <a href="https://quadcitieschamber.com/posts/2019/01/16/seeking-participants-for-strategic-marketing-boot-camp-training-at-minimal-cost">Strategic Marketing Workshop</a> will be held in April and May.&nbsp\; It is an introduction to the fundamentals of marketing and marketing plan development that will allow manufacturers to diversify their customer base and increase sales.&nbsp\; Workshop attendees will learn the basics of marketing and apply them immediately to develop a strategic marketing plan. The program is a combination of instruction and training along with built-in time for in-depth analysis and practical application of each company&rsquo\;s potential for developing a marketing strategy.<br />\n<br />\nThe Hub is currently seeking interested participants from Dept. of Defense prime or sub-tier suppliers who would be eligible to attend the specialized training at minimal cost as part of the Illinois Defense Industry Adjustment (DIA) Program.<br />\n<br />\nRegister for &ldquo\;Quad Cities Chamber of Commerce Market Diversification Webinar&rdquo\; at:&nbsp\;<br />\nhttps://attendee.gotowebinar.com/register/111143430052412931&nbsp\;<br />\n<br />\nAfter registering\, you will receive a confirmation email containing information about joining the webinar.
LOCATION:Webinar
UID:e.2843.13787
SEQUENCE:3
DTSTAMP:20260422T195641Z
URL:https://member.quadcitieschamber.com/events/details/webinar-ciras-strategic-marketing-workshop-overview-13787
END:VEVENT

END:VCALENDAR
