BEGIN:VCALENDAR
VERSION:2.0
PRODID:-//ChamberMaster//Event Calendar 2.0//EN
METHOD:PUBLISH
X-PUBLISHED-TTL:P3D
REFRESH-INTERVAL:P3D
CALSCALE:GREGORIAN
BEGIN:VEVENT
DTSTART:20201013T160000Z
DTEND:20201013T170000Z
X-MICROSOFT-CDO-ALLDAYEVENT:FALSE
SUMMARY:[webinar] Improving Indoor Air Quality
DESCRIPTION:How can you improve your indoor air quality?\n\n\n\nGet expert advice at this free webinar on Tuesday\, October 13th (11am - 12pm)\, hosted by local engineering firm Klingner & Associates\, P.C. You'll walk away with a checklist of steps you can take with your existing system\, learn what major solutions might mean for you\, and have the chance to ask Mechanical Engineer Matt Bridges your air quality questions.\n\n\n\nThis webinar was specifically developed to help clients across industries take a proactive approach to indoor air quality. \n\n\n\nRegister now: https://bit.ly/IndoorAirWebinar
X-ALT-DESC;FMTTYPE=text/html:<strong>How can you improve your indoor air quality?</strong><br />\n<br />\nGet expert advice at this free webinar on&nbsp\;<strong>Tuesday\, October 13th (11am - 12pm)</strong>\, hosted by local engineering firm Klingner &amp\; Associates\, P.C. You&#39\;ll walk away with a checklist of steps you can take with your existing system\, learn what major solutions might mean for you\, and have the chance to ask Mechanical Engineer Matt Bridges your air quality questions.<br />\n<br />\n<em>This webinar was specifically developed to help clients across industries take a proactive approach to indoor air quality.&nbsp\;</em><br />\n<br />\n<strong>Register now:&nbsp\;<a href="https://bit.ly/IndoorAirWebinar" style="color: rgb(17\, 85\, 204)\;" target="_blank">https://bit.ly/IndoorAirWebinar</a></strong>
LOCATION:LIVE WEBINAR
UID:e.2843.18186
SEQUENCE:3
DTSTAMP:20260421T105829Z
URL:https://member.quadcitieschamber.com/events/details/webinar-improving-indoor-air-quality-18186
END:VEVENT

END:VCALENDAR
