BEGIN:VCALENDAR
VERSION:2.0
PRODID:-//ChamberMaster//Event Calendar 2.0//EN
METHOD:PUBLISH
X-PUBLISHED-TTL:P3D
REFRESH-INTERVAL:P3D
CALSCALE:GREGORIAN
BEGIN:VEVENT
DTSTART:20200110T003000Z
DTEND:20200110T013000Z
X-MICROSOFT-CDO-ALLDAYEVENT:FALSE
SUMMARY:Wellness & Nutrition Seminar at Dunn's powered by Live Active 563
DESCRIPTION:Join us at Dunn's to learn a little bit about wellness and nutrition. \n\n\n\nLearn about the macronutrients in your diet!\n\n\n\nLearn how to build a meal!\n\n\n\nLearn how to assess portion sizes!\n\n\n\nLearn how to set a nutrition & fitness goal!\n\n\n\nFind an accountability partner!\n\n\n\nAll participants will be eligible for a FREE InBody biometric scan!\n\n\n\nEnter in a drawing to win a FREE ENTRY into our January Jumpstart Nutrition & Wellness Challenge\n\n\n\nThis seminar will take place at Dunn Brothers 4520 E 53rd Street. \n\n\n\nSample the Live Active 563 Recovery & Meal Replacement Shake! \n\n\n\nPlease RSVP by responding "Going" in the FB event so we know apx how many samples of the shakes to make. \n\n\n\nFACEBOOK EVENT - RSVP HERE: https://www.facebook.com/events/2799853516740699/
X-ALT-DESC;FMTTYPE=text/html:<span style="background-color:rgb(255\, 255\, 255)\; color:rgb(29\, 33\, 41)\; font-family:system-ui\,-apple-system\,system-ui\,.sfnstext-regular\,sans-serif\; font-size:14px">Join us at Dunn&rsquo\;s to learn a little bit about wellness and nutrition. </span><br />\n<br />\n<span style="background-color:rgb(255\, 255\, 255)\; color:rgb(29\, 33\, 41)\; font-family:system-ui\,-apple-system\,system-ui\,.sfnstext-regular\,sans-serif\; font-size:14px">Learn about the macronutrients in your diet!</span><br />\n<br />\n<span style="background-color:rgb(255\, 255\, 255)\; color:rgb(29\, 33\, 41)\; font-family:system-ui\,-apple-system\,system-ui\,.sfnstext-regular\,sans-serif\; font-size:14px">Learn how to build a meal!</span><br />\n<br />\n<span style="background-color:rgb(255\, 255\, 255)\; color:rgb(29\, 33\, 41)\; font-family:system-ui\,-apple-system\,system-ui\,.sfnstext-regular\,sans-serif\; font-size:14px">Learn how to assess portion sizes!</span><br />\n<br />\n<span style="background-color:rgb(255\, 255\, 255)\; color:rgb(29\, 33\, 41)\; font-family:system-ui\,-apple-system\,system-ui\,.sfnstext-regular\,sans-serif\; font-size:14px">Learn how to set a nutrition &amp\; fitness goal!</span><br />\n<br />\n<span style="background-color:rgb(255\, 255\, 255)\; color:rgb(29\, 33\, 41)\; font-family:system-ui\,-apple-system\,system-ui\,.sfnstext-regular\,sans-serif\; font-size:14px">Find an accountability partner!</span><br />\n<br />\n<span style="background-color:rgb(255\, 255\, 255)\; color:rgb(29\, 33\, 41)\; font-family:system-ui\,-apple-system\,system-ui\,.sfnstext-regular\,sans-serif\; font-size:14px">All participants will be eligible for a FREE InBody biometric scan!</span><br />\n<br />\n<span style="background-color:rgb(255\, 255\, 255)\; color:rgb(29\, 33\, 41)\; font-family:system-ui\,-apple-system\,system-ui\,.sfnstext-regular\,sans-serif\; font-size:14px">Enter in a drawing to win a FREE ENTRY into our January Jumpstart Nutrition &amp\; Wellness Challenge</span><br />\n<br />\n<span style="background-color:rgb(255\, 255\, 255)\; color:rgb(29\, 33\, 41)\; font-family:system-ui\,-apple-system\,system-ui\,.sfnstext-regular\,sans-serif\; font-size:14px">This seminar will take place at Dunn Brothers 4520 E 53rd Street. </span><br />\n<br />\n<span style="background-color:rgb(255\, 255\, 255)\; color:rgb(29\, 33\, 41)\; font-family:system-ui\,-apple-system\,system-ui\,.sfnstext-regular\,sans-serif\; font-size:14px">Sample the Live Active 563 Recovery &amp\; Meal Replacement Shake! </span><br />\n<br />\n<span style="background-color:rgb(255\, 255\, 255)\; color:rgb(29\, 33\, 41)\; font-family:system-ui\,-apple-system\,system-ui\,.sfnstext-regular\,sans-serif\; font-size:14px">Please RSVP by responding &ldquo\;Going&rdquo\; in the FB event so we know apx how many samples of the shakes to make. </span><br />\n<br />\nFACEBOOK EVENT - RSVP HERE:&nbsp\;<a href="https://www.facebook.com/events/2799853516740699/">https://www.facebook.com/events/2799853516740699/</a><br />\n<br />\n&nbsp\;
LOCATION:DUNN BROTHER'S COFFEE 4520 E 53RD STREET\; SUITE 100 DAVENPORT\, IA
UID:e.2843.17447
SEQUENCE:3
DTSTAMP:20260422T015517Z
URL:https://member.quadcitieschamber.com/events/details/wellness-nutrition-seminar-at-dunn-s-powered-by-live-active-563-17447
END:VEVENT

END:VCALENDAR
