BEGIN:VCALENDAR
VERSION:2.0
PRODID:-//ChamberMaster//Event Calendar 2.0//EN
METHOD:PUBLISH
X-PUBLISHED-TTL:P3D
REFRESH-INTERVAL:P3D
CALSCALE:GREGORIAN
BEGIN:VEVENT
DTSTART:20130517T210000Z
DTEND:20130517T213000Z
X-MICROSOFT-CDO-ALLDAYEVENT:FALSE
SUMMARY:Werner Restoration Services Ribbon Cutting
DESCRIPTION:Please help Werner Restoration Services celebrate their 25-year anniversary\, new equipment and remodeled space with a ribbon cutting on Friday\, May 17th\, 2013 at 4:00pm. Werner Restoration Services specializes in fire and water damage restoration\, ultrasonic and electronics cleaning of personal property. For more information\, please visit www.wernerrestorationinc.com.
X-ALT-DESC;FMTTYPE=text/html:<P style="MARGIN: 0in 0in 0pt" class=MsoNormal><FONT face=Arial>Please help Werner Restoration Services celebrate their 25-year anniversary\, new equipment and remodeled space with a ribbon cutting on Friday\, May 17<SUP>th</SUP>\, 2013 at 4:00pm.</FONT></P><P style="MARGIN: 0in 0in 0pt" class=MsoNormal><?xml:namespace prefix = o ns = "urn:schemas-microsoft-com:office:office" /><o:p><FONT face=Arial>&nbsp\;</FONT></o:p></P><P style="MARGIN: 0in 0in 0pt" class=MsoNormal><FONT face=Arial>Werner Restoration Services specializes in fire and water damage restoration\, ultrasonic and electronics cleaning of personal property.</FONT></P><P style="MARGIN: 0in 0in 0pt" class=MsoNormal><FONT face=Arial></FONT>&nbsp\;</P><P style="MARGIN: 0in 0in 0pt" class=MsoNormal><FONT face=Arial>For more information\, please visit </FONT><A href="http://www.wernerrestorationinc.com"><FONT face=Arial>www.wernerrestorationinc.com</FONT></A><FONT face=Arial>.</FONT></P><DIV style="FONT-FAMILY: Arial">&nbsp\;</DIV>
LOCATION:Werner Restoration Services\, Inc.102 Innovation Way Colona\, IL 61241
UID:e.2843.524
SEQUENCE:3
DTSTAMP:20260421T134509Z
URL:https://member.quadcitieschamber.com/events/details/werner-restoration-services-ribbon-cutting-05-17-2013-524
END:VEVENT

END:VCALENDAR
