BEGIN:VCALENDAR
VERSION:2.0
PRODID:-//ChamberMaster//Event Calendar 2.0//EN
METHOD:PUBLISH
X-PUBLISHED-TTL:P3D
REFRESH-INTERVAL:P3D
CALSCALE:GREGORIAN
BEGIN:VEVENT
DTSTART:20120829T200000Z
DTEND:20120829T203000Z
X-MICROSOFT-CDO-ALLDAYEVENT:FALSE
SUMMARY:Western Illinois University-Quad Cities Groundbreaking - Phase II Construction
DESCRIPTION:You are invited to the Groundbreaking Ceremony for Western Illinois University – Quad Cities\, Phase II construction\, Riverfront.  August 29\, 2012 at 3:00pm. 3300 River Drive\, Moline\, IL.  Parking will be available at the I wireless Center\, Moline.  Shuttle service provided by MetroLINK beginning at 2:15pm (arrive early to catch the first shuttle).  Refreshments will be served.
X-ALT-DESC;FMTTYPE=text/html:<P style="MARGIN: 0in 0in 0pt" class=MsoNormal><FONT face=Calibri>You are invited to the Groundbreaking Ceremony for Western Illinois University – Quad Cities\, Phase II construction\, Riverfront.<SPAN style="mso-spacerun: yes">&nbsp\; </SPAN>August 29\, 2012 at 3:00pm. 3300 River Drive\, Moline\, IL.<SPAN style="mso-spacerun: yes">&nbsp\;<STRONG> </STRONG></SPAN><STRONG>Parking will be available at the I wireless Center\, Moline</STRONG>.<SPAN style="mso-spacerun: yes">&nbsp\; </SPAN>Shuttle service provided by MetroLINK beginning at 2:15pm (arrive early to catch the first shuttle).<SPAN style="mso-spacerun: yes">&nbsp\; </SPAN>Refreshments will be served.</FONT></P><P style="MARGIN: 0in 0in 0pt" class=MsoNormal><?xml:namespace prefix = o ns = "urn:schemas-microsoft-com:office:office" /><o:p><FONT face=Calibri>&nbsp\;</FONT></o:p></P><DIV style="FONT-FAMILY: Arial"><FONT face="Times New Roman"></FONT>&nbsp\;</DIV>
LOCATION:Western Illinois University Quad Cities3300 River Drive Moline\, IL 61265
UID:e.2843.415
SEQUENCE:3
DTSTAMP:20260421T220223Z
URL:https://member.quadcitieschamber.com/events/details/western-illinois-university-quad-cities-groundbreaking-phase-ii-construction-08-29-2012-415
END:VEVENT

END:VCALENDAR
