BEGIN:VCALENDAR
VERSION:2.0
PRODID:-//ChamberMaster//Event Calendar 2.0//EN
METHOD:PUBLISH
X-PUBLISHED-TTL:P3D
REFRESH-INTERVAL:P3D
CALSCALE:GREGORIAN
BEGIN:VEVENT
DTSTART:20190725T150000Z
DTEND:20190725T160000Z
X-MICROSOFT-CDO-ALLDAYEVENT:FALSE
SUMMARY:When a Mobile App is a good idea
DESCRIPTION:Are you ready to enter the Mobile App arena?\n\nDo you have a business solution\, competitive advantage\, or a great idea that you think: "this could be solved with a mobile app!" \n\nDuring this education session\, you will understand what options available\, typical implementation costs\, and when and why an app is or is not a good investment. \n\nRegister Now\n\n\n\nAbout Twin State Technical Services:\n\nTwin State has provided customized\, reliable solutions for all-things tech to Quad City businesses for more than 25 years. Whether you're looking for custom software\, networking solutions\,  digital marketing strategy\, a new website\,  or just general troubleshooting\, our team specializes in saving you time and money by making our solutions simple\, affordable\, and easy-to-use.\n\nGive us your problem and watch it be solved. Twin State Technical Services
X-ALT-DESC;FMTTYPE=text/html:<p><span style="font-size:12px"><strong>Are you ready to enter the Mobile App arena?</strong><br />\nDo you have a business solution\, competitive advantage\, or a great idea that you think: &ldquo\;this could be solved with a mobile app!&rdquo\; </span></p>\n\n<p><span style="font-size:12px">During this education session\, you will understand what options available\, typical implementation costs\, and when and why an app is or is not a good investment.&nbsp\;</span></p>\n\n<p><span style="font-size:12px"><a href="http://bit.ly/3058ucF" target="_blank">Register Now</a><br />\n<br />\n<em><span style="color:black"><span style="font-family:calibri\,sans-serif">About Twin State Technical Services:</span></span></em><br />\n<span style="color:black"><span style="font-family:calibri\,sans-serif">Twin State has provided customized\, reliable solutions for all-things tech to Quad City businesses for more than 25 years. Whether you&rsquo\;re looking for </span></span><span style="color:black"><a href="https://www.tsts.com/software-development/"><span style="font-family:calibri\,sans-serif">custom software\,</span></a></span> <span style="color:black"><a href="https://www.tsts.com/infrastructure-network-solutions/"><span style="font-family:calibri\,sans-serif">networking solutions\,</span></a></span>&nbsp\; <span style="color:black"><a href="https://www.tsts.com/digital-marketing/"><span style="font-family:calibri\,sans-serif">digital marketing strategy</span></a></span><span style="color:black"><span style="font-family:calibri\,sans-serif">\, </span></span><span style="color:black"><a href="https://www.tsts.com/web-mobile-development/"><span style="font-family:calibri\,sans-serif">a new website\, </span></a></span><span style="color:black"><span style="font-family:calibri\,sans-serif">&nbsp\;or just general&nbsp\;</span></span><span style="color:black"><a href="https://www.tsts.com/infrastructure-network-solutions/technical-support/"><span style="color:black"><span style="font-family:calibri\,sans-serif">troubleshooting</span></span></a></span><span style="color:black"><span style="font-family:calibri\,sans-serif">\, our team specializes in saving you time and money by making our solutions simple\, affordable\, and easy-to-use.</span></span><br />\n<span style="color:black"><span style="font-family:calibri\,sans-serif">Give us your problem and watch it be solved. </span></span><span style="color:black"><a href="https://www.tsts.com/"><span style="font-family:calibri\,sans-serif">Twin State Technical Services</span></a></span></span><br />\n<br />\n&nbsp\;</p>\n
LOCATION:Twin State Technical Services 3543 E Kimberly Road\, Davenport\, IA\, 52807
UID:e.2843.15440
SEQUENCE:3
DTSTAMP:20260422T113515Z
URL:https://member.quadcitieschamber.com/events/details/when-a-mobile-app-is-a-good-idea-07-25-2019-15440
END:VEVENT

END:VCALENDAR
