BEGIN:VCALENDAR
VERSION:2.0
PRODID:-//ChamberMaster//Event Calendar 2.0//EN
METHOD:PUBLISH
X-PUBLISHED-TTL:P3D
REFRESH-INTERVAL:P3D
CALSCALE:GREGORIAN
BEGIN:VEVENT
DTSTART;VALUE=DATE:20190309
DTEND;VALUE=DATE:20190317
TRANSP:TRANSPARENT
X-MICROSOFT-CDO-ALLDAYEVENT:TRUE
SUMMARY:Win BIG With Woodspring!
DESCRIPTION:Win BIG with Woodspring\, Davenport's newest extended stay hotel! \n\n\n\nStop in for a tour 9A-10P March 9-16 for a chance to win:\n\n\n\n- Bag of Casino Chips\n\n- Free Buffet Pass\n\n- Free Night Stay at Woodspring\n\n\n\nCome join the fun at the newest extended stay in town!
X-ALT-DESC;FMTTYPE=text/html:Win BIG with Woodspring\, Davenport&#39\;s newest extended stay hotel!&nbsp\;<br />\n<br />\nStop in for a tour 9A-10P March 9-16 for a chance to win:<br />\n<br />\n- Bag of Casino Chips<br />\n- Free Buffet Pass<br />\n- Free Night Stay at Woodspring<br />\n<br />\nCome join the fun at the newest extended stay in town!<br />\n&nbsp\;
LOCATION:Woodspring Suites 5315 Elmore Circle Davenport\, IA 52807
UID:e.2843.13821
SEQUENCE:3
DTSTAMP:20260422T181318Z
URL:https://member.quadcitieschamber.com/events/details/win-big-with-woodspring-13821
END:VEVENT

END:VCALENDAR
