BEGIN:VCALENDAR
VERSION:2.0
PRODID:-//ChamberMaster//Event Calendar 2.0//EN
METHOD:PUBLISH
X-PUBLISHED-TTL:P3D
REFRESH-INTERVAL:P3D
CALSCALE:GREGORIAN
BEGIN:VEVENT
DTSTART:20131023T150000Z
DTEND:20131023T170000Z
X-MICROSOFT-CDO-ALLDAYEVENT:FALSE
SUMMARY:Windows 8 and the new Office Hands-On Workshop
DESCRIPTION:In a Microsoft Office 365 SMB Hands-on-Lab workshop\, business groups can come together to see how the latest Microsoft solutions can drive greater productivity and innovation in an organization. \n\nWhy should you attend a Microsoft Office 365 Hands-on-Lab Workshop?\n\n1.) True to Life:\n A Microsoft Office 365 SMB Hands-on-Lab Workshop is not a generic demo. It is a true-to-life userexperience that takes you through common work-related scenarios. These include working remotely\, leveraging social networking to locate expertise and share information\, and connecting in real time with coworkers and customers. \n\n2.) Promotes communication: Participating in a Microsoft Office 365SMB Hands-on-Lab Workshop is a great way for IT departments and business groups to better understandthe IT solutions theyâ€™re using\, which can lead to process improvements and an improved workplaceenvironment.\n\n3.) Interactive and fun: Participating in a Microsoft Office 365 SMB Hands-on-Lab Workshop is the best way to learn about business productivity tools and technologies without sales pressure. Workshops are led by a knowledgeable facilitator and are designed to be interactive\, experiential\, and fun. \n\nPlease join EnCompass for this exciting event. We look forward to guiding you through the session and helping you discover how Windows 8 and the new Office can help you take business productivity to the next level.
X-ALT-DESC;FMTTYPE=text/html:In a Microsoft Office 365 SMB Hands-on-Lab workshop\, business groups can come together to see how the latest Microsoft solutions can drive greater productivity and innovation in an organization. \n\nWhy should you attend a Microsoft Office 365 Hands-on-Lab Workshop?\n\n1.) True to Life:\n A Microsoft Office 365 SMB Hands-on-Lab Workshop is not a generic demo. It is a true-to-life userexperience that takes you through common work-related scenarios. These include working remotely\, leveraging social networking to locate expertise and share information\, and connecting in real time with coworkers and customers. \n\n2.) Promotes communication: Participating in a Microsoft Office 365SMB Hands-on-Lab Workshop is a great way for IT departments and business groups to better understandthe IT solutions theyâ€™re using\, which can lead to process improvements and an improved workplaceenvironment.\n\n3.) Interactive and fun: Participating in a Microsoft Office 365 SMB Hands-on-Lab Workshop is the best way to learn about business productivity tools and technologies without sales pressure. Workshops are led by a knowledgeable facilitator and are designed to be interactive\, experiential\, and fun. \n\nPlease join EnCompass for this exciting event. We look forward to guiding you through the session and helping you discover how Windows 8 and the new Office can help you take business productivity to the next level.\n
LOCATION:The Isle Waterfront Convention Center1777 Isle Parkway Bettendorf\, IA 52722
UID:e.2843.50
SEQUENCE:3
DTSTAMP:20260421T201355Z
URL:https://member.quadcitieschamber.com/events/details/windows-8-and-the-new-office-hands-on-workshop-10-23-2013-50
END:VEVENT

END:VCALENDAR
