BEGIN:VCALENDAR
VERSION:2.0
PRODID:-//ChamberMaster//Event Calendar 2.0//EN
METHOD:PUBLISH
X-PUBLISHED-TTL:P3D
REFRESH-INTERVAL:P3D
CALSCALE:GREGORIAN
BEGIN:VEVENT
DTSTART:20190413T230000Z
DTEND:20190414T030000Z
X-MICROSOFT-CDO-ALLDAYEVENT:FALSE
SUMMARY:Wine Festival Preview Dinner
DESCRIPTION:Join us for an elegant evening in the Rogalski Center Ballroom. A select vineyard will be on hand to showcase their wines. The select wines will be paired with menu items prepared by the St. Ambrose University culinary team. After dinner\, enjoy entertainment along with silent and live auctions. This is a black-tie optional event. All proceeds fund student scholarships at St. Ambrose University. Cost: $140/person which includes a $50 ticket to the Wine Festival Wine Tasting on Saturday\, May 18\, 2019. $1\,300 for a table of 8. Sponsorship opportunities available for this event. For more information\, go to www.sau.edu/winefest or contact the Alumni Office at 563/333-6290.
X-ALT-DESC;FMTTYPE=text/html:Join us for an elegant evening in the Rogalski Center Ballroom. A select vineyard will be on hand to showcase their wines. The select wines will be paired with menu items prepared by the St. Ambrose University culinary team. After dinner\, enjoy entertainment along with silent and live auctions. This is a black-tie optional event. All proceeds fund student scholarships at St. Ambrose University. Cost: $140/person which includes a $50 ticket to the Wine Festival Wine Tasting on Saturday\, May 18\, 2019. $1\,300 for a table of 8. Sponsorship opportunities available for this event. For more information\, go to www.sau.edu/winefest or contact the Alumni Office at 563/333-6290.
LOCATION:St. Ambrose University Rogalski Center 518 W. Locust St. Davenport\, IA 52803
UID:e.2843.13569
SEQUENCE:3
DTSTAMP:20260422T163719Z
URL:https://member.quadcitieschamber.com/events/details/wine-festival-preview-dinner-13569
END:VEVENT

END:VCALENDAR
