BEGIN:VCALENDAR
VERSION:2.0
PRODID:-//ChamberMaster//Event Calendar 2.0//EN
METHOD:PUBLISH
X-PUBLISHED-TTL:P3D
REFRESH-INTERVAL:P3D
CALSCALE:GREGORIAN
BEGIN:VEVENT
DTSTART:20190518T200000Z
DTEND:20190518T230000Z
X-MICROSOFT-CDO-ALLDAYEVENT:FALSE
SUMMARY:Wine Festival Wine Tasting
DESCRIPTION:Underneath the towering oak trees\, sip your way through a spectacular assortment of 180 wines from around the world and enjoy culinary highlights from a number of Quad City restaurants. Our festival vintner\, Dimitri Papageorgiou\, offers his years of experience in the wine industry to assemble an impressive assortment of wines from California to Germany to New Zealand. The Wine Festival Wine Tasting has earned the reputation as a premiere Quad Cities event and draws nearly 1\,000 people to campus to support student scholarships each year. Cost: $50/person in advance and $55/person at the door. Sponsorship opportunities available for this event. For more information\, go to www.sau.edu/winefest or contact the Alumni Office at 563/333-6290.
X-ALT-DESC;FMTTYPE=text/html:Underneath the towering oak trees\, sip your way through a spectacular assortment of 180 wines from around the world and enjoy culinary highlights from a number of Quad City restaurants. Our festival vintner\, Dimitri Papageorgiou\, offers his years of experience in the wine industry to assemble an impressive assortment of wines from California to Germany to New Zealand. The Wine Festival Wine Tasting has earned the reputation as a premiere Quad Cities event and draws nearly 1\,000 people to campus to support student scholarships each year. Cost: $50/person in advance and $55/person at the door. Sponsorship opportunities available for this event. For more information\, go to www.sau.edu/winefest or contact the Alumni Office at 563/333-6290.
LOCATION:St. Ambrose University (Outside) 518 W. Locust St. Davenport\, IA 52803
UID:e.2843.13570
SEQUENCE:3
DTSTAMP:20260422T163834Z
URL:https://member.quadcitieschamber.com/events/details/wine-festival-wine-tasting-13570
END:VEVENT

END:VCALENDAR
