BEGIN:VCALENDAR
VERSION:2.0
PRODID:-//ChamberMaster//Event Calendar 2.0//EN
METHOD:PUBLISH
X-PUBLISHED-TTL:P3D
REFRESH-INTERVAL:P3D
CALSCALE:GREGORIAN
BEGIN:VEVENT
DTSTART:20170427T223000Z
DTEND:20170428T013000Z
X-MICROSOFT-CDO-ALLDAYEVENT:FALSE
SUMMARY:Wings for the Future Charity Event
DESCRIPTION:Come join us for our 2nd annual Wings for the Future charity event! Wings\, beer\, other beverages\, hors d'oeuvres\, silent auction and more! This is our ONLY event for the year\, so come and help us raise a lot of $$$ for St. Joseph the Worker House\, a shelter for homeless women and children in Rock Island. Located in a historical home within the Broadway Historical District\, we are the ONLY shelter for homeless women and children in RI\, and the only one of two located on the IL side of the Quad Cities.
X-ALT-DESC;FMTTYPE=text/html:<span style="font-size:12px">Come join us for our 2nd annual Wings for the Future charity event! Wings\, beer\, other beverages\, hors d&#39\;oeuvres\, silent auction and more! This is our ONLY event for the year\, so come and help us raise a lot of $$$ for St. Joseph the Worker House\, a shelter for homeless women and children in Rock Island. Located in a historical home within the Broadway Historical District\, we are the ONLY shelter for homeless women and children in RI\, and the only one of two located on the IL side of the Quad Cities. </span>
LOCATION:Holiday Inn\, Rock Island 226 17th St.
UID:e.2843.4749
SEQUENCE:3
DTSTAMP:20260424T061103Z
URL:https://member.quadcitieschamber.com/events/details/wings-for-the-future-charity-event-4749
END:VEVENT

END:VCALENDAR
