BEGIN:VCALENDAR
VERSION:2.0
PRODID:-//ChamberMaster//Event Calendar 2.0//EN
METHOD:PUBLISH
X-PUBLISHED-TTL:P3D
REFRESH-INTERVAL:P3D
CALSCALE:GREGORIAN
BEGIN:VEVENT
DTSTART:20200929T130000Z
DTEND:20200929T150000Z
X-MICROSOFT-CDO-ALLDAYEVENT:FALSE
SUMMARY:Women Connect Workshop: Men\, Women\, and Words: Communicating Across the Gender Divide with Amber Nelson
DESCRIPTION:Ever feel like men and women speak completely different languages? This fun\, high-energy workshop focuses on bridging the gender communication gap. Learn tips\, tools\, and strategies for effectively communicating with your colleagues to accelerate your own leadership and create a better work environment for everyone. In this session you will learn:   Gender Stereotype Activity   How Awareness is the First Step in Becoming Gender Bilingual   Know When to Take it Personally   Tips\, tricks\, and Strategies for Becoming Gender Bilingual
X-ALT-DESC;FMTTYPE=text/html:Ever feel like men and women speak completely different languages? This fun\, high-energy workshop focuses on bridging the gender communication gap. Learn tips\, tools\, and strategies for effectively communicating with your colleagues to accelerate your own leadership and create a better work environment for everyone. In this session you will learn: &bull\; Gender Stereotype Activity &bull\; How Awareness is the First Step in Becoming Gender Bilingual &bull\; Know When to Take it Personally &bull\; Tips\, tricks\, and Strategies for Becoming Gender Bilingual
LOCATION:Virtual Workshop
UID:e.2843.17905
SEQUENCE:3
DTSTAMP:20260421T142637Z
URL:https://member.quadcitieschamber.com/events/details/women-connect-workshop-men-women-and-words-communicating-across-the-gender-divide-with-amber-nelson-17905
END:VEVENT

END:VCALENDAR
