BEGIN:VCALENDAR
VERSION:2.0
PRODID:-//ChamberMaster//Event Calendar 2.0//EN
METHOD:PUBLISH
X-PUBLISHED-TTL:P3D
REFRESH-INTERVAL:P3D
CALSCALE:GREGORIAN
BEGIN:VEVENT
DTSTART:20210217T140000Z
DTEND:20210217T160000Z
X-MICROSOFT-CDO-ALLDAYEVENT:FALSE
SUMMARY:Women Connect Workshop: The Soul Behind the Role: Igniting Intentional Leadership with Rachel Druckenmiller
DESCRIPTION:In this digital age\, as technology continues to take center stage\, human skills and authentic\, intentional leadership are more important than ever. A study of over 50\,000 managers found that competence and technical skills were not the most important elements of strong leadership. It's our human skills that make a difference. This interactive workshop will empower and equip you with practical skills to boost your influence and impact\, so you can be a catalyst for change and a more effective and connected leader. Leaders who implement the skills explored in this session will foster greater courage\, curiosity and connection\, and our workplace cultures will be positively impacted because of your future-ready\, human leadership.
X-ALT-DESC;FMTTYPE=text/html:In this digital age\, as technology continues to take center stage\, human skills and authentic\, intentional leadership are more important than ever. A study of over 50\,000 managers found that competence and technical skills were not the most important elements of strong leadership. It&rsquo\;s our human skills that make a difference. This interactive workshop will empower and equip you with practical skills to boost your influence and impact\, so you can be a catalyst for change and a more effective and connected leader. Leaders who implement the skills explored in this session will foster greater courage\, curiosity and connection\, and our workplace cultures will be positively impacted because of your future-ready\, human leadership.
LOCATION:Virtual
UID:e.2843.18743
SEQUENCE:3
DTSTAMP:20260421T045438Z
URL:https://member.quadcitieschamber.com/events/details/women-connect-workshop-the-soul-behind-the-role-igniting-intentional-leadership-with-rachel-druckenmiller-18743
END:VEVENT

END:VCALENDAR
